BEGIN:VCALENDAR
PRODID:-//PUBBLE//agenda//NL
VERSION:2.0
METHOD:PUBLISH
BEGIN:VEVENT
DTSTART:20260507T100000Z
DTEND:20260507T110000Z
DTSTAMP:20260425T001143Z
UID:ba4b30fa-36c3-4466-8c11-5a0b0e1fe2f9
CREATED:20260425T001143Z
NAME:Open eettafel Streefkerk hetkontakt.nl
X-WR-CALNAME:Open eettafel Streefkerk
X-ALT-DESC;FMTTYPE=text/html:<a href='/alblasserwaard/agenda/2026/5/7/open-eettafel-streefkerk-462154'>/alblasserwaard/agenda/2026/5/7/open-eettafel-streefkerk-462154</a> || <p>Open eettafel voor senioren. Opgeven bij Ria Moerland, 06-80101410, of Tineke den Haak, 06-28043815.</p>
DESCRIPTION:<a href='/alblasserwaard/agenda/2026/5/7/open-eettafel-streefkerk-462154'>/alblasserwaard/agenda/2026/5/7/open-eettafel-streefkerk-462154</a> || <p>Open eettafel voor senioren. Opgeven bij Ria Moerland, 06-80101410, of Tineke den Haak, 06-28043815.</p>
LAST-MODIFIED:20260425T001143Z
LOCATION: De Strevenaer | Strevenaer 1 Streefkerk
SEQUENCE:0
STATUS:CONFIRMED
SUMMARY:Open eettafel Streefkerk
TRANSP:OPAQUE
END:VEVENT
END:VCALENDAR
