BEGIN:VCALENDAR
PRODID:-//PUBBLE//agenda//NL
VERSION:2.0
METHOD:PUBLISH
BEGIN:VEVENT
DTSTART:20260504T123000Z
DTEND:20260504T133000Z
DTSTAMP:20260425T000330Z
UID:b68b4503-f5c3-475f-9b9b-d8316b612678
CREATED:20260425T000330Z
NAME:Koersbal in Strevenaer hetkontakt.nl
X-WR-CALNAME:Koersbal in Strevenaer
X-ALT-DESC;FMTTYPE=text/html:<a href='/alblasserwaard/agenda/2026/5/4/koersbal-in-strevenaer-462152'>/alblasserwaard/agenda/2026/5/4/koersbal-in-strevenaer-462152</a> || <p>Koersbal voor senioren. </p>
DESCRIPTION:<a href='/alblasserwaard/agenda/2026/5/4/koersbal-in-strevenaer-462152'>/alblasserwaard/agenda/2026/5/4/koersbal-in-strevenaer-462152</a> || <p>Koersbal voor senioren. </p>
LAST-MODIFIED:20260425T000330Z
LOCATION: De Strevenaer | Strevenaer 1 Streefkerk
SEQUENCE:0
STATUS:CONFIRMED
SUMMARY:Koersbal in Strevenaer
TRANSP:OPAQUE
END:VEVENT
END:VCALENDAR
