BEGIN:VCALENDAR
PRODID:-//PUBBLE//agenda//NL
VERSION:2.0
METHOD:PUBLISH
BEGIN:VEVENT
DTSTART:20260502T073000Z
DTEND:20260502T103000Z
DTSTAMP:20260425T000442Z
UID:6729d18d-9e46-4d5a-846d-e8ee220a466a
CREATED:20260425T000442Z
NAME:RommelZolder Nieuwland hetkontakt.nl
X-WR-CALNAME:RommelZolder Nieuwland
X-ALT-DESC;FMTTYPE=text/html:<a href='/alblasserwaard/agenda/2026/5/2/rommelzolder-nieuwland-462090'>/alblasserwaard/agenda/2026/5/2/rommelzolder-nieuwland-462090</a> || <p>Zaterdag 2 mei is de RommelZolder in Nieuwland (Kerkstraat 5) weer open van 09.30 tot 12.30 uur. Komt u snuffelen tussen leuke 2e hands spulletjes? De koffie staat klaar. WELKOM!</p>
DESCRIPTION:<a href='/alblasserwaard/agenda/2026/5/2/rommelzolder-nieuwland-462090'>/alblasserwaard/agenda/2026/5/2/rommelzolder-nieuwland-462090</a> || <p>Zaterdag 2 mei is de RommelZolder in Nieuwland (Kerkstraat 5) weer open van 09.30 tot 12.30 uur. Komt u snuffelen tussen leuke 2e hands spulletjes? De koffie staat klaar. WELKOM!</p>
LAST-MODIFIED:20260425T000442Z
LOCATION: Rommelzolder | Kerkstraat 5 Nieuwland
SEQUENCE:0
STATUS:CONFIRMED
SUMMARY:RommelZolder Nieuwland
TRANSP:OPAQUE
END:VEVENT
END:VCALENDAR
