BEGIN:VCALENDAR
PRODID:-//PUBBLE//agenda//NL
VERSION:2.0
METHOD:PUBLISH
BEGIN:VEVENT
DTSTART:20260702T173000Z
DTEND:20260702T203000Z
DTSTAMP:20260425T000435Z
UID:1a0a1096-d3e8-4575-a5f8-f2d651c82c30
CREATED:20260425T000435Z
NAME:Bingo Beats - Muziekbingo Nieuwpoort hetkontakt.nl
X-WR-CALNAME:Bingo Beats - Muziekbingo Nieuwpoort
X-ALT-DESC;FMTTYPE=text/html:<a href='/alblasserwaard/agenda/2026/7/2/bingo-beats-muziekbingo-nieuwpoort-462081'>/alblasserwaard/agenda/2026/7/2/bingo-beats-muziekbingo-nieuwpoort-462081</a> || <p>Donderdag 2 juli komt Nostalgia Events met het gloednieuwe ‘Bingo Beats’ naar Nieuwpoort! Een muziekbingo spektakel waarbij je geen nummertjes van je kaart afstreept, maar de namen van de liedjes die voorbij komen.<br><strong>Gezellig</strong><br>Dit evenement kent een zeer hoog gezelligheidsgehalte. Het is meezingen en meeswingen geblazen op de grootste hits van toen én nu. Geschikt voor alle leeftijden (vanaf 16).</p><p><br><strong>Info &amp; aanmelden</strong><br>Meer info en aanmelden -&gt; <a href="https://www.ticketkantoor.nl/shop/bingobeats020726" target="_blank">https://www.ticketkantoor.nl/shop/bingobeats020726</a>&nbsp;</p>
DESCRIPTION:<a href='/alblasserwaard/agenda/2026/7/2/bingo-beats-muziekbingo-nieuwpoort-462081'>/alblasserwaard/agenda/2026/7/2/bingo-beats-muziekbingo-nieuwpoort-462081</a> || <p>Donderdag 2 juli komt Nostalgia Events met het gloednieuwe ‘Bingo Beats’ naar Nieuwpoort! Een muziekbingo spektakel waarbij je geen nummertjes van je kaart afstreept, maar de namen van de liedjes die voorbij komen.<br><strong>Gezellig</strong><br>Dit evenement kent een zeer hoog gezelligheidsgehalte. Het is meezingen en meeswingen geblazen op de grootste hits van toen én nu. Geschikt voor alle leeftijden (vanaf 16).</p><p><br><strong>Info &amp; aanmelden</strong><br>Meer info en aanmelden -&gt; <a href="https://www.ticketkantoor.nl/shop/bingobeats020726" target="_blank">https://www.ticketkantoor.nl/shop/bingobeats020726</a>&nbsp;</p>
LAST-MODIFIED:20260425T000435Z
LOCATION: Het Arsenaal | Buitenhaven 11 Nieuwpoort
SEQUENCE:0
STATUS:CONFIRMED
SUMMARY:Bingo Beats - Muziekbingo Nieuwpoort
TRANSP:OPAQUE
END:VEVENT
END:VCALENDAR
