BEGIN:VCALENDAR
PRODID:-//PUBBLE//agenda//NL
VERSION:2.0
METHOD:PUBLISH
BEGIN:VEVENT
DTSTART:20260427T173000Z
DTEND:20260427T193000Z
DTSTAMP:20260424T165802Z
UID:7e0f61dd-0557-4081-9564-25707de9d167
CREATED:20260424T165802Z
NAME:Oranjeconcert VHL-Muzikaal hetkontakt.nl
X-WR-CALNAME:Oranjeconcert VHL-Muzikaal
X-ALT-DESC;FMTTYPE=text/html:<a href='/vijfheerenlanden/agenda/2026/4/27/oranjeconcert-vhl-muzikaal-461874'>/vijfheerenlanden/agenda/2026/4/27/oranjeconcert-vhl-muzikaal-461874</a> || <p>Het traditionele Oranjeconcert, dit jaar ‘VHL-Muzikaal’ genoemd. Deze keer namelijk vertolkt door verschillende musici uit de gemeente Vijfheerenlanden.&nbsp;</p><p>130 medewerkers van Fanfareorkest Excelsior Hagestein, de koren Inspiration Vianen en Mixed Voices-Vianen, de organist/pianist Martijn Borsje uit Leerdam en de sopraan Luc Ket verzorgen een gevarieerd programma. Men kan meezingen met enkele van onze vaderlandse liederen.&nbsp;Het dragen van rood, wit, blauw of oranje wordt op prijs gesteld. Kaarten zijn gratis verkrijgbaar bij het Stedelijk Museum Vianen, Voorstraat 97. Maximaal twee kaarten per persoon.&nbsp;</p>
DESCRIPTION:<a href='/vijfheerenlanden/agenda/2026/4/27/oranjeconcert-vhl-muzikaal-461874'>/vijfheerenlanden/agenda/2026/4/27/oranjeconcert-vhl-muzikaal-461874</a> || <p>Het traditionele Oranjeconcert, dit jaar ‘VHL-Muzikaal’ genoemd. Deze keer namelijk vertolkt door verschillende musici uit de gemeente Vijfheerenlanden.&nbsp;</p><p>130 medewerkers van Fanfareorkest Excelsior Hagestein, de koren Inspiration Vianen en Mixed Voices-Vianen, de organist/pianist Martijn Borsje uit Leerdam en de sopraan Luc Ket verzorgen een gevarieerd programma. Men kan meezingen met enkele van onze vaderlandse liederen.&nbsp;Het dragen van rood, wit, blauw of oranje wordt op prijs gesteld. Kaarten zijn gratis verkrijgbaar bij het Stedelijk Museum Vianen, Voorstraat 97. Maximaal twee kaarten per persoon.&nbsp;</p>
LAST-MODIFIED:20260424T165802Z
LOCATION: Grote Kerk  | Voorstraat 110 Vianen
SEQUENCE:0
STATUS:CONFIRMED
SUMMARY:Oranjeconcert VHL-Muzikaal
TRANSP:OPAQUE
END:VEVENT
END:VCALENDAR
