BEGIN:VCALENDAR
PRODID:-//PUBBLE//agenda//NL
VERSION:2.0
METHOD:PUBLISH
BEGIN:VEVENT
DTSTART:20260427T110000Z
DTEND:20260521T150000Z
DTSTAMP:20260424T170857Z
UID:a60ed394-15d9-47a2-ba2b-bd2f9b4c2082
CREATED:20260424T170857Z
NAME:Oranje Speeldag in Het Kikkertje hetkontakt.nl
X-WR-CALNAME:Oranje Speeldag in Het Kikkertje
X-ALT-DESC;FMTTYPE=text/html:<a href='/vijfheerenlanden/agenda/2026/4/27/oranje-speeldag-in-het-kikkertje-461813'>/vijfheerenlanden/agenda/2026/4/27/oranje-speeldag-in-het-kikkertje-461813</a> || <p>Speeltuin Het Kikkertje houdt een Koningsdag Oranje Speeldag Feest. Er zijn springkussens, spelletjes, een peuterspeelhoek, halal broodjes, suikerspinnen en andere hapjes. Betalen kan contant of met de Kikker-stempelkaart (5 euro). Spelen in de speeltuin is gratis. Met een kleedje spullen verkopen? Ook dat kan.</p>
DESCRIPTION:<a href='/vijfheerenlanden/agenda/2026/4/27/oranje-speeldag-in-het-kikkertje-461813'>/vijfheerenlanden/agenda/2026/4/27/oranje-speeldag-in-het-kikkertje-461813</a> || <p>Speeltuin Het Kikkertje houdt een Koningsdag Oranje Speeldag Feest. Er zijn springkussens, spelletjes, een peuterspeelhoek, halal broodjes, suikerspinnen en andere hapjes. Betalen kan contant of met de Kikker-stempelkaart (5 euro). Spelen in de speeltuin is gratis. Met een kleedje spullen verkopen? Ook dat kan.</p>
LAST-MODIFIED:20260424T170857Z
LOCATION: Speeltuin Het Kikkertje-Leerdam West Owensstraat | De Ruijterstraat 33 Leerdam
SEQUENCE:0
STATUS:CONFIRMED
SUMMARY:Oranje Speeldag in Het Kikkertje
TRANSP:OPAQUE
END:VEVENT
END:VCALENDAR
