BEGIN:VCALENDAR
PRODID:-//PUBBLE//agenda//NL
VERSION:2.0
METHOD:PUBLISH
BEGIN:VEVENT
DTSTART:20260610T170000Z
DTEND:20260610T180000Z
DTSTAMP:20260422T020641Z
UID:e4191392-d79c-4d6d-b6bd-ecf40d79adc5
CREATED:20260422T020641Z
NAME:Mozart (en meer) voor mantelzorgers hetkontakt.nl
X-WR-CALNAME:Mozart (en meer) voor mantelzorgers
X-ALT-DESC;FMTTYPE=text/html:<a href='/alblasserwaard/agenda/2026/6/10/mozart-en-meer-voor-mantelzorgers-461801'>/alblasserwaard/agenda/2026/6/10/mozart-en-meer-voor-mantelzorgers-461801</a> || <p>Het Mantelzorg Punt van Stichting Welzijn Molenlanden verzorgt een zomeravondconcert voor mantelzorgers. De musici van de Appeltaartconcerten komen nogmaals optreden, deze keer met het Utrechts Harptrio. Een zomeravond gevuld met klassieke muziek en uitzicht over de weilanden. Aanmelden kan via het Mantelzorg Punt: info@welzijnmolenlanden.nl of 085-0066089.</p>
DESCRIPTION:<a href='/alblasserwaard/agenda/2026/6/10/mozart-en-meer-voor-mantelzorgers-461801'>/alblasserwaard/agenda/2026/6/10/mozart-en-meer-voor-mantelzorgers-461801</a> || <p>Het Mantelzorg Punt van Stichting Welzijn Molenlanden verzorgt een zomeravondconcert voor mantelzorgers. De musici van de Appeltaartconcerten komen nogmaals optreden, deze keer met het Utrechts Harptrio. Een zomeravond gevuld met klassieke muziek en uitzicht over de weilanden. Aanmelden kan via het Mantelzorg Punt: info@welzijnmolenlanden.nl of 085-0066089.</p>
LAST-MODIFIED:20260422T020641Z
LOCATION: Zorgboerderij Molenhoeve | Middenpolderweg 60 Streefkerk
SEQUENCE:0
STATUS:CONFIRMED
SUMMARY:Mozart (en meer) voor mantelzorgers
TRANSP:OPAQUE
END:VEVENT
END:VCALENDAR
