BEGIN:VCALENDAR
PRODID:-//PUBBLE//agenda//NL
VERSION:2.0
METHOD:PUBLISH
BEGIN:VEVENT
DTSTART:20260506T113000Z
DTEND:20260506T123000Z
DTSTAMP:20260422T002436Z
UID:dda592a1-2779-440a-ba65-344d1bc6d8e4
CREATED:20260422T002436Z
NAME:Oud-Alblas Ontmoet hetkontakt.nl
X-WR-CALNAME:Oud-Alblas Ontmoet
X-ALT-DESC;FMTTYPE=text/html:<a href='/alblasserwaard/agenda/2026/5/6/oud-alblas-ontmoet-461800'>/alblasserwaard/agenda/2026/5/6/oud-alblas-ontmoet-461800</a> || <p>Tot 16.00 uur is er voor 60-plussers gelegenheid voor een spelletje Rummikub, biljarten of bijpraten met koffie of thee. Contactpersoon: Ria Ploeg, 06-33434029.</p>
DESCRIPTION:<a href='/alblasserwaard/agenda/2026/5/6/oud-alblas-ontmoet-461800'>/alblasserwaard/agenda/2026/5/6/oud-alblas-ontmoet-461800</a> || <p>Tot 16.00 uur is er voor 60-plussers gelegenheid voor een spelletje Rummikub, biljarten of bijpraten met koffie of thee. Contactpersoon: Ria Ploeg, 06-33434029.</p>
LAST-MODIFIED:20260422T002436Z
LOCATION: Dorpshuis De Beemd | Beemdweg 9 Oud-Alblas
SEQUENCE:0
STATUS:CONFIRMED
SUMMARY:Oud-Alblas Ontmoet
TRANSP:OPAQUE
END:VEVENT
END:VCALENDAR
