BEGIN:VCALENDAR
PRODID:-//PUBBLE//agenda//NL
VERSION:2.0
METHOD:PUBLISH
BEGIN:VEVENT
DTSTART:20260506T130000Z
DTEND:20260506T140000Z
DTSTAMP:20260422T002307Z
UID:0c1e9711-a63c-48e1-8a4e-3b9b1a5fa0b4
CREATED:20260422T002307Z
NAME:Uitleen legpuzzels Beemd Oud-Alblas hetkontakt.nl
X-WR-CALNAME:Uitleen legpuzzels Beemd Oud-Alblas
X-ALT-DESC;FMTTYPE=text/html:<a href='/alblasserwaard/agenda/2026/5/6/uitleen-legpuzzels-beemd-oud-alblas-461799'>/alblasserwaard/agenda/2026/5/6/uitleen-legpuzzels-beemd-oud-alblas-461799</a> || <p>Tot 16.00 uur gelegenheid om gratis legpuzzels te lenen. Voor de beginner en de geoefende puzzelaar.</p>
DESCRIPTION:<a href='/alblasserwaard/agenda/2026/5/6/uitleen-legpuzzels-beemd-oud-alblas-461799'>/alblasserwaard/agenda/2026/5/6/uitleen-legpuzzels-beemd-oud-alblas-461799</a> || <p>Tot 16.00 uur gelegenheid om gratis legpuzzels te lenen. Voor de beginner en de geoefende puzzelaar.</p>
LAST-MODIFIED:20260422T002307Z
LOCATION: Dorpshuis De Beemd | Beemdweg 9 Oud-Alblas
SEQUENCE:0
STATUS:CONFIRMED
SUMMARY:Uitleen legpuzzels Beemd Oud-Alblas
TRANSP:OPAQUE
END:VEVENT
END:VCALENDAR
