BEGIN:VCALENDAR
PRODID:-//PUBBLE//agenda//NL
VERSION:2.0
METHOD:PUBLISH
BEGIN:VEVENT
DTSTART:20260430T113000Z
DTEND:20260430T123000Z
DTSTAMP:20260422T002308Z
UID:eda08fa1-65d9-4d2d-a45c-97e850bd2646
CREATED:20260422T002308Z
NAME:Huiskamer Ottoland en Goudriaan hetkontakt.nl
X-WR-CALNAME:Huiskamer Ottoland en Goudriaan
X-ALT-DESC;FMTTYPE=text/html:<a href='/alblasserwaard/agenda/2026/4/30/huiskamer-ottoland-en-goudriaan-461785'>/alblasserwaard/agenda/2026/4/30/huiskamer-ottoland-en-goudriaan-461785</a> || <p>Tot 14.15 uur Bewegen voor 60-plussers. Vanaf 14.30 uur inloop voor koffie, thee, een spelletje of een praatje met een vrijwilliger. Om 17.30 uur gezamenlijke maaltijd. Kosten 4 euro. Aanmelding uiterlijk één dag van te voren via 06-5313 7754.</p>
DESCRIPTION:<a href='/alblasserwaard/agenda/2026/4/30/huiskamer-ottoland-en-goudriaan-461785'>/alblasserwaard/agenda/2026/4/30/huiskamer-ottoland-en-goudriaan-461785</a> || <p>Tot 14.15 uur Bewegen voor 60-plussers. Vanaf 14.30 uur inloop voor koffie, thee, een spelletje of een praatje met een vrijwilliger. Om 17.30 uur gezamenlijke maaltijd. Kosten 4 euro. Aanmelding uiterlijk één dag van te voren via 06-5313 7754.</p>
LAST-MODIFIED:20260422T002308Z
LOCATION: Huiskamer Ottoland en Goudriaan | A 94 Ottoland
SEQUENCE:0
STATUS:CONFIRMED
SUMMARY:Huiskamer Ottoland en Goudriaan
TRANSP:OPAQUE
END:VEVENT
END:VCALENDAR
