BEGIN:VCALENDAR
PRODID:-//PUBBLE//agenda//NL
VERSION:2.0
METHOD:PUBLISH
BEGIN:VEVENT
DTSTART:20260502T070000Z
DTEND:20260502T150000Z
DTSTAMP:20260422T110927Z
UID:64e2fb5a-91af-46a5-a8cf-6d482d6359ee
CREATED:20260422T110927Z
NAME:Voorjaarsmarkt hetkontakt.nl
X-WR-CALNAME:Voorjaarsmarkt
X-ALT-DESC;FMTTYPE=text/html:<a href='/vijfheerenlanden/agenda/2026/5/2/voorjaarsmarkt-461749'>/vijfheerenlanden/agenda/2026/5/2/voorjaarsmarkt-461749</a> || <p>Voorjaarsmarkt met leuke kramen van 9:00 tot 17:00 uur in het centrum van Leerdam. Sfeer en ambacht komen samen.</p>
DESCRIPTION:<a href='/vijfheerenlanden/agenda/2026/5/2/voorjaarsmarkt-461749'>/vijfheerenlanden/agenda/2026/5/2/voorjaarsmarkt-461749</a> || <p>Voorjaarsmarkt met leuke kramen van 9:00 tot 17:00 uur in het centrum van Leerdam. Sfeer en ambacht komen samen.</p>
LAST-MODIFIED:20260422T110927Z
LOCATION: Grote Kerk | Kerkstraat 32 Leerdam
SEQUENCE:0
STATUS:CONFIRMED
SUMMARY:Voorjaarsmarkt
TRANSP:OPAQUE
END:VEVENT
END:VCALENDAR
