BEGIN:VCALENDAR
PRODID:-//PUBBLE//agenda//NL
VERSION:2.0
METHOD:PUBLISH
BEGIN:VEVENT
DTSTART:20260420T160916Z
DTEND:20260502T100000Z
DTSTAMP:20260422T075206Z
UID:09c46fef-fd6c-4639-8075-af33faf24877
CREATED:20260422T075206Z
NAME:Lentemarkt hetkontakt.nl
X-WR-CALNAME:Lentemarkt
X-ALT-DESC;FMTTYPE=text/html:<a href='/krimpenerwaard/agenda/2026/5/2/lentemarkt-461728'>/krimpenerwaard/agenda/2026/5/2/lentemarkt-461728</a> || <p>De Tuinrangers Krimpenerwaard organiseren samen met Buurtgroen een lentemarkt op de binnenplaats van de Liezeborgh (ingang Overtuin). Het betreft een niet-commerciële stekjes- en zadenmarkt, waar stekjes en zaden kunnen worden geruild, weggegeven of verkocht. Er wordt advies en informatie verstrekt over tuinieren en de natuur in de Krimpenerwaard. Daarnaast is er gelegenheid om koffie of thee te drinken. Ook zonder eigen stekjes is deelname mogelijk, bijvoorbeeld om inspiratie op te doen of nieuwe planten te vinden. Bezoek is tevens mogelijk voor de gezelligheid. De organisatie vindt plaats met medewerking van de Liezeborgh, de Overtuin en de NVWK (Natuur- en Vogelwerkgroep Krimpenerwaard).</p>
DESCRIPTION:<a href='/krimpenerwaard/agenda/2026/5/2/lentemarkt-461728'>/krimpenerwaard/agenda/2026/5/2/lentemarkt-461728</a> || <p>De Tuinrangers Krimpenerwaard organiseren samen met Buurtgroen een lentemarkt op de binnenplaats van de Liezeborgh (ingang Overtuin). Het betreft een niet-commerciële stekjes- en zadenmarkt, waar stekjes en zaden kunnen worden geruild, weggegeven of verkocht. Er wordt advies en informatie verstrekt over tuinieren en de natuur in de Krimpenerwaard. Daarnaast is er gelegenheid om koffie of thee te drinken. Ook zonder eigen stekjes is deelname mogelijk, bijvoorbeeld om inspiratie op te doen of nieuwe planten te vinden. Bezoek is tevens mogelijk voor de gezelligheid. De organisatie vindt plaats met medewerking van de Liezeborgh, de Overtuin en de NVWK (Natuur- en Vogelwerkgroep Krimpenerwaard).</p>
LAST-MODIFIED:20260422T075206Z
LOCATION: Liezeborgh | Liezeweg 31 Haastrecht
SEQUENCE:0
STATUS:CONFIRMED
SUMMARY:Lentemarkt
TRANSP:OPAQUE
END:VEVENT
END:VCALENDAR
