BEGIN:VCALENDAR
PRODID:-//PUBBLE//agenda//NL
VERSION:2.0
METHOD:PUBLISH
BEGIN:VEVENT
DTSTART:20260512T080000Z
DTEND:20260512T090000Z
DTSTAMP:20260422T002344Z
UID:52e0718e-752d-4934-96ff-7df4c6e09114
CREATED:20260422T002344Z
NAME:Nostalgisch uurtje: waar keek men naar? hetkontakt.nl
X-WR-CALNAME:Nostalgisch uurtje: waar keek men naar?
X-ALT-DESC;FMTTYPE=text/html:<a href='/alblasserwaard/agenda/2026/5/12/nostalgisch-uurtje-waar-keek-men-naar--461712'>/alblasserwaard/agenda/2026/5/12/nostalgisch-uurtje-waar-keek-men-naar--461712</a> || <p>Samen met Museum Het Reghthuys kijken we naar oudetelevisiebeelden en halen we herinneringen op aan TV-programma’svan toen;&nbsp;</p><p>Van 10.00-11.00 uur in de Dorpskamer Giessenburg,Breestraat 2, Giessenburg.</p><p>Voor volwassenen, toegang gratis.</p>
DESCRIPTION:<a href='/alblasserwaard/agenda/2026/5/12/nostalgisch-uurtje-waar-keek-men-naar--461712'>/alblasserwaard/agenda/2026/5/12/nostalgisch-uurtje-waar-keek-men-naar--461712</a> || <p>Samen met Museum Het Reghthuys kijken we naar oudetelevisiebeelden en halen we herinneringen op aan TV-programma’svan toen;&nbsp;</p><p>Van 10.00-11.00 uur in de Dorpskamer Giessenburg,Breestraat 2, Giessenburg.</p><p>Voor volwassenen, toegang gratis.</p>
LAST-MODIFIED:20260422T002344Z
LOCATION: Bibliotheek Aanzet Giessenburg | Breestraat 2 Giessenburg
SEQUENCE:0
STATUS:CONFIRMED
SUMMARY:Nostalgisch uurtje: waar keek men naar?
TRANSP:OPAQUE
END:VEVENT
END:VCALENDAR
