BEGIN:VCALENDAR
PRODID:-//PUBBLE//agenda//NL
VERSION:2.0
METHOD:PUBLISH
BEGIN:VEVENT
DTSTART:20260513T130000Z
DTEND:20260513T140000Z
DTSTAMP:20260422T002344Z
UID:8c5320ea-0ef4-40e3-8fd3-ba9c5fc61d79
CREATED:20260422T002344Z
NAME:Maakplaats: Iedereen is anders en dat is OK hetkontakt.nl
X-WR-CALNAME:Maakplaats: Iedereen is anders en dat is OK
X-ALT-DESC;FMTTYPE=text/html:<a href='/alblasserwaard/agenda/2026/5/13/maakplaats-iedereen-is-anders-en-dat-is-ok-461711'>/alblasserwaard/agenda/2026/5/13/maakplaats-iedereen-is-anders-en-dat-is-ok-461711</a> || <p>Na de 4 en 5 mei – herdenkingen denken we met elkaar over vrede,vrijheid, democratie en respect voor elkaar. Tijdens de bijbehorende creatieve opdracht versieren de kinderen een doosje met wensen voorvrede in de toekomst.&nbsp;</p><p>Gratis.</p><p>Voor kinderen van 6-12 jaar.</p><p>Bibliotheek Aanzet, Breestraat 2, Giessenburg</p>
DESCRIPTION:<a href='/alblasserwaard/agenda/2026/5/13/maakplaats-iedereen-is-anders-en-dat-is-ok-461711'>/alblasserwaard/agenda/2026/5/13/maakplaats-iedereen-is-anders-en-dat-is-ok-461711</a> || <p>Na de 4 en 5 mei – herdenkingen denken we met elkaar over vrede,vrijheid, democratie en respect voor elkaar. Tijdens de bijbehorende creatieve opdracht versieren de kinderen een doosje met wensen voorvrede in de toekomst.&nbsp;</p><p>Gratis.</p><p>Voor kinderen van 6-12 jaar.</p><p>Bibliotheek Aanzet, Breestraat 2, Giessenburg</p>
LAST-MODIFIED:20260422T002344Z
LOCATION: Bibliotheek Aanzet Giessenburg | Breestraat 2 Giessenburg
SEQUENCE:0
STATUS:CONFIRMED
SUMMARY:Maakplaats: Iedereen is anders en dat is OK
TRANSP:OPAQUE
END:VEVENT
END:VCALENDAR
