BEGIN:VCALENDAR
PRODID:-//PUBBLE//agenda//NL
VERSION:2.0
METHOD:PUBLISH
BEGIN:VEVENT
DTSTART:20260527T080000Z
DTEND:20260527T090000Z
DTSTAMP:20260421T042032Z
UID:f2eef7c1-6f05-403b-b174-ae2f6c8fc576
CREATED:20260421T042032Z
NAME:Dorpskamer Noordeloos hetkontakt.nl
X-WR-CALNAME:Dorpskamer Noordeloos
X-ALT-DESC;FMTTYPE=text/html:<a href='/alblasserwaard/agenda/2026/5/27/dorpskamer-noordeloos-461686'>/alblasserwaard/agenda/2026/5/27/dorpskamer-noordeloos-461686</a> || <p>Inloop tot 12.00 uur. Krista den Hartog behandelt het onderwerp ‘Het reilen en zeilen op een spoedeisende hulp (SEH)’. Het Repair Café is open.</p>
DESCRIPTION:<a href='/alblasserwaard/agenda/2026/5/27/dorpskamer-noordeloos-461686'>/alblasserwaard/agenda/2026/5/27/dorpskamer-noordeloos-461686</a> || <p>Inloop tot 12.00 uur. Krista den Hartog behandelt het onderwerp ‘Het reilen en zeilen op een spoedeisende hulp (SEH)’. Het Repair Café is open.</p>
LAST-MODIFIED:20260421T042032Z
LOCATION: Noorderhuis | Noorderplein 1 Noordeloos
SEQUENCE:0
STATUS:CONFIRMED
SUMMARY:Dorpskamer Noordeloos
TRANSP:OPAQUE
END:VEVENT
END:VCALENDAR
