BEGIN:VCALENDAR
PRODID:-//PUBBLE//agenda//NL
VERSION:2.0
METHOD:PUBLISH
BEGIN:VEVENT
DTSTART:20260520T080000Z
DTEND:20260520T090000Z
DTSTAMP:20260421T041716Z
UID:5f3b1c9a-95cd-4d38-994a-a10e4b621110
CREATED:20260421T041716Z
NAME:Dorpskamer Noordeloos hetkontakt.nl
X-WR-CALNAME:Dorpskamer Noordeloos
X-ALT-DESC;FMTTYPE=text/html:<a href='/alblasserwaard/agenda/2026/5/20/dorpskamer-noordeloos-461685'>/alblasserwaard/agenda/2026/5/20/dorpskamer-noordeloos-461685</a> || <p>Inloop tot 12.00 uur. Spelletjes en klaverjassen.</p>
DESCRIPTION:<a href='/alblasserwaard/agenda/2026/5/20/dorpskamer-noordeloos-461685'>/alblasserwaard/agenda/2026/5/20/dorpskamer-noordeloos-461685</a> || <p>Inloop tot 12.00 uur. Spelletjes en klaverjassen.</p>
LAST-MODIFIED:20260421T041716Z
LOCATION: Noorderhuis | Noorderplein 1 Noordeloos
SEQUENCE:0
STATUS:CONFIRMED
SUMMARY:Dorpskamer Noordeloos
TRANSP:OPAQUE
END:VEVENT
END:VCALENDAR
