BEGIN:VCALENDAR
PRODID:-//PUBBLE//agenda//NL
VERSION:2.0
METHOD:PUBLISH
BEGIN:VEVENT
DTSTART:20260513T100000Z
DTEND:20260513T110000Z
DTSTAMP:20260421T041924Z
UID:fdb2f17f-2948-40b1-9fae-3536854014b9
CREATED:20260421T041924Z
NAME:Open eettafel Noordeloos hetkontakt.nl
X-WR-CALNAME:Open eettafel Noordeloos
X-ALT-DESC;FMTTYPE=text/html:<a href='/alblasserwaard/agenda/2026/5/13/open-eettafel-noordeloos-461684'>/alblasserwaard/agenda/2026/5/13/open-eettafel-noordeloos-461684</a> || <p>Contactpersoon is Jan Kros, 0183-582208.</p>
DESCRIPTION:<a href='/alblasserwaard/agenda/2026/5/13/open-eettafel-noordeloos-461684'>/alblasserwaard/agenda/2026/5/13/open-eettafel-noordeloos-461684</a> || <p>Contactpersoon is Jan Kros, 0183-582208.</p>
LAST-MODIFIED:20260421T041924Z
LOCATION: Noorderhuis | Noorderplein 1 Noordeloos
SEQUENCE:0
STATUS:CONFIRMED
SUMMARY:Open eettafel Noordeloos
TRANSP:OPAQUE
END:VEVENT
END:VCALENDAR
