BEGIN:VCALENDAR
PRODID:-//PUBBLE//agenda//NL
VERSION:2.0
METHOD:PUBLISH
BEGIN:VEVENT
DTSTART:20260502T083000Z
DTEND:20260502T093000Z
DTSTAMP:20260426T031317Z
UID:a5b23aa1-d82e-4c56-a85e-6c71fc748fe1
CREATED:20260426T031317Z
NAME:Lezing Govert Schilling hetkontakt.nl
X-WR-CALNAME:Lezing Govert Schilling
X-ALT-DESC;FMTTYPE=text/html:<a href='/klaroen/agenda/2026/5/2/lezing-govert-schilling-461683'>/klaroen/agenda/2026/5/2/lezing-govert-schilling-461683</a> || <p>Op zaterdag 2 mei bezoekt Govert Schilling de bibliotheek van Papendrecht voor een lezing. Govert neemt je mee op een reis langs de maan en de planeten; langs sterren, nevels en sterrenstelsels, en op een reis door de tijd, tot een paar miljard jaar in het verleden. Hij sluit de lezing af met een quiz waarbij een van de aanwezigen de ‘Atlas van de ruimte’ kan winnen, die hij samen schreef met astronaut André Kuipers. Leeftijd: 8 - 14 jaar, tijdstip 10:30 - 11:30, gratis, wel aanmelden via https://www.bibliotheekaanzet.nl/activiteiten/lezing-govert-schilling.</p>
DESCRIPTION:<a href='/klaroen/agenda/2026/5/2/lezing-govert-schilling-461683'>/klaroen/agenda/2026/5/2/lezing-govert-schilling-461683</a> || <p>Op zaterdag 2 mei bezoekt Govert Schilling de bibliotheek van Papendrecht voor een lezing. Govert neemt je mee op een reis langs de maan en de planeten; langs sterren, nevels en sterrenstelsels, en op een reis door de tijd, tot een paar miljard jaar in het verleden. Hij sluit de lezing af met een quiz waarbij een van de aanwezigen de ‘Atlas van de ruimte’ kan winnen, die hij samen schreef met astronaut André Kuipers. Leeftijd: 8 - 14 jaar, tijdstip 10:30 - 11:30, gratis, wel aanmelden via https://www.bibliotheekaanzet.nl/activiteiten/lezing-govert-schilling.</p>
LAST-MODIFIED:20260426T031317Z
LOCATION: Bibliotheek Aan Zet | Markt 22 Papendrecht
SEQUENCE:0
STATUS:CONFIRMED
SUMMARY:Lezing Govert Schilling
TRANSP:OPAQUE
END:VEVENT
END:VCALENDAR
