BEGIN:VCALENDAR
PRODID:-//PUBBLE//agenda//NL
VERSION:2.0
METHOD:PUBLISH
BEGIN:VEVENT
DTSTART:20260513T080000Z
DTEND:20260513T090000Z
DTSTAMP:20260421T041628Z
UID:0a111fe6-0247-4472-a25b-7f2039096beb
CREATED:20260421T041628Z
NAME:Dorpskamer Noordeloos hetkontakt.nl
X-WR-CALNAME:Dorpskamer Noordeloos
X-ALT-DESC;FMTTYPE=text/html:<a href='/alblasserwaard/agenda/2026/5/13/dorpskamer-noordeloos-461682'>/alblasserwaard/agenda/2026/5/13/dorpskamer-noordeloos-461682</a> || <p>Inloop tot 12.00 uur. Er staat een crea-ochtend op het programma.</p>
DESCRIPTION:<a href='/alblasserwaard/agenda/2026/5/13/dorpskamer-noordeloos-461682'>/alblasserwaard/agenda/2026/5/13/dorpskamer-noordeloos-461682</a> || <p>Inloop tot 12.00 uur. Er staat een crea-ochtend op het programma.</p>
LAST-MODIFIED:20260421T041628Z
LOCATION: Noorderhuis | Noorderplein 1 Noordeloos
SEQUENCE:0
STATUS:CONFIRMED
SUMMARY:Dorpskamer Noordeloos
TRANSP:OPAQUE
END:VEVENT
END:VCALENDAR
