BEGIN:VCALENDAR
PRODID:-//PUBBLE//agenda//NL
VERSION:2.0
METHOD:PUBLISH
BEGIN:VEVENT
DTSTART:20260506T080000Z
DTEND:20260506T090000Z
DTSTAMP:20260421T042052Z
UID:5e99cf6a-7ef7-4030-941d-039ea0988141
CREATED:20260421T042052Z
NAME:Dorpskamer Noordeloos hetkontakt.nl
X-WR-CALNAME:Dorpskamer Noordeloos
X-ALT-DESC;FMTTYPE=text/html:<a href='/alblasserwaard/agenda/2026/5/6/dorpskamer-noordeloos-461681'>/alblasserwaard/agenda/2026/5/6/dorpskamer-noordeloos-461681</a> || <p>Inloop tot 12.00 uur. De aanwezigen krijgen een inkijk in de dagelijkse praktijd van Anneke Segers, de vrouw achter burgemeester Theo Segers.</p>
DESCRIPTION:<a href='/alblasserwaard/agenda/2026/5/6/dorpskamer-noordeloos-461681'>/alblasserwaard/agenda/2026/5/6/dorpskamer-noordeloos-461681</a> || <p>Inloop tot 12.00 uur. De aanwezigen krijgen een inkijk in de dagelijkse praktijd van Anneke Segers, de vrouw achter burgemeester Theo Segers.</p>
LAST-MODIFIED:20260421T042052Z
LOCATION: Noorderhuis | Noorderplein 1 Noordeloos
SEQUENCE:0
STATUS:CONFIRMED
SUMMARY:Dorpskamer Noordeloos
TRANSP:OPAQUE
END:VEVENT
END:VCALENDAR
