BEGIN:VCALENDAR
PRODID:-//PUBBLE//agenda//NL
VERSION:2.0
METHOD:PUBLISH
BEGIN:VEVENT
DTSTART:20260527T073000Z
DTEND:20260527T083000Z
DTSTAMP:20260421T042006Z
UID:dc3a1b06-19b0-4381-95d4-396e439964a8
CREATED:20260421T042006Z
NAME:Huis van de Waard Brandwijk hetkontakt.nl
X-WR-CALNAME:Huis van de Waard Brandwijk
X-ALT-DESC;FMTTYPE=text/html:<a href='/alblasserwaard/agenda/2026/5/27/huis-van-de-waard-brandwijk-461678'>/alblasserwaard/agenda/2026/5/27/huis-van-de-waard-brandwijk-461678</a> || <p>Tot 12.00 uur inloop voor koffie, thee en/of een praatje met een vrijwilliger. Ook kunnen bezoekers een spelletje doen, biljarten of creatief bezig zijn. Info: Anie de Visser, 06-55545882.</p>
DESCRIPTION:<a href='/alblasserwaard/agenda/2026/5/27/huis-van-de-waard-brandwijk-461678'>/alblasserwaard/agenda/2026/5/27/huis-van-de-waard-brandwijk-461678</a> || <p>Tot 12.00 uur inloop voor koffie, thee en/of een praatje met een vrijwilliger. Ook kunnen bezoekers een spelletje doen, biljarten of creatief bezig zijn. Info: Anie de Visser, 06-55545882.</p>
LAST-MODIFIED:20260421T042006Z
LOCATION: De Overstap | Kerkweg 10 Brandwijk
SEQUENCE:0
STATUS:CONFIRMED
SUMMARY:Huis van de Waard Brandwijk
TRANSP:OPAQUE
END:VEVENT
END:VCALENDAR
