BEGIN:VCALENDAR
PRODID:-//PUBBLE//agenda//NL
VERSION:2.0
METHOD:PUBLISH
BEGIN:VEVENT
DTSTART:20260520T073000Z
DTEND:20260520T083000Z
DTSTAMP:20260421T041833Z
UID:ba5f5968-ed58-4acb-8ee0-f4d827396f81
CREATED:20260421T041833Z
NAME:Huis van de Waard Brandwijk hetkontakt.nl
X-WR-CALNAME:Huis van de Waard Brandwijk
X-ALT-DESC;FMTTYPE=text/html:<a href='/alblasserwaard/agenda/2026/5/20/huis-van-de-waard-brandwijk-461677'>/alblasserwaard/agenda/2026/5/20/huis-van-de-waard-brandwijk-461677</a> || <p>Tot 12.00 uur inloop voor koffie, thee en/of een praatje met een vrijwilliger. Ook kunnen bezoekers een spelletje doen, biljarten of creatief bezig zijn. Info: Anie de Visser, 06-55545882.</p>
DESCRIPTION:<a href='/alblasserwaard/agenda/2026/5/20/huis-van-de-waard-brandwijk-461677'>/alblasserwaard/agenda/2026/5/20/huis-van-de-waard-brandwijk-461677</a> || <p>Tot 12.00 uur inloop voor koffie, thee en/of een praatje met een vrijwilliger. Ook kunnen bezoekers een spelletje doen, biljarten of creatief bezig zijn. Info: Anie de Visser, 06-55545882.</p>
LAST-MODIFIED:20260421T041833Z
LOCATION: De Overstap | Kerkweg 10 Brandwijk
SEQUENCE:0
STATUS:CONFIRMED
SUMMARY:Huis van de Waard Brandwijk
TRANSP:OPAQUE
END:VEVENT
END:VCALENDAR
