BEGIN:VCALENDAR
PRODID:-//PUBBLE//agenda//NL
VERSION:2.0
METHOD:PUBLISH
BEGIN:VEVENT
DTSTART:20260513T073000Z
DTEND:20260513T083000Z
DTSTAMP:20260421T041746Z
UID:7ea0fcba-3d79-4a75-a587-c235d9d5ff12
CREATED:20260421T041746Z
NAME:Huis van de Waard Brandwijk hetkontakt.nl
X-WR-CALNAME:Huis van de Waard Brandwijk
X-ALT-DESC;FMTTYPE=text/html:<a href='/alblasserwaard/agenda/2026/5/13/huis-van-de-waard-brandwijk-461676'>/alblasserwaard/agenda/2026/5/13/huis-van-de-waard-brandwijk-461676</a> || <p>Tot 12.00 uur inloop voor koffie, thee en/of een praatje met een vrijwilliger. Ook kunnen bezoekers een spelletje doen, biljarten of creatief bezig zijn. Het Repair Café is open. Info: Anie de Visser, 06-55545882.</p>
DESCRIPTION:<a href='/alblasserwaard/agenda/2026/5/13/huis-van-de-waard-brandwijk-461676'>/alblasserwaard/agenda/2026/5/13/huis-van-de-waard-brandwijk-461676</a> || <p>Tot 12.00 uur inloop voor koffie, thee en/of een praatje met een vrijwilliger. Ook kunnen bezoekers een spelletje doen, biljarten of creatief bezig zijn. Het Repair Café is open. Info: Anie de Visser, 06-55545882.</p>
LAST-MODIFIED:20260421T041746Z
LOCATION: De Overstap | Kerkweg 10 Brandwijk
SEQUENCE:0
STATUS:CONFIRMED
SUMMARY:Huis van de Waard Brandwijk
TRANSP:OPAQUE
END:VEVENT
END:VCALENDAR
