BEGIN:VCALENDAR
PRODID:-//PUBBLE//agenda//NL
VERSION:2.0
METHOD:PUBLISH
BEGIN:VEVENT
DTSTART:20260502T070000Z
DTEND:20260502T080000Z
DTSTAMP:20260420T144935Z
UID:f5a7c697-2954-4944-aa48-a9c5c8055592
CREATED:20260420T144935Z
NAME:Boekenmarkt hetkontakt.nl
X-WR-CALNAME:Boekenmarkt
X-ALT-DESC;FMTTYPE=text/html:<a href='/klaroen/agenda/2026/5/2/boekenmarkt-461637'>/klaroen/agenda/2026/5/2/boekenmarkt-461637</a> || <p>Excelsior Papendrecht organiseert zaterdag 2 mei een boekenmarkt in het verenigingsgebouw aan de Rembrandtlaan 206. De markt is open van 09:00 tot 14:00 uur. Toegang en parkeren zijn gratis.</p><p>De boekenmarkt van Excelsior Papendrecht is uitgegroeid tot de grootste indoor boekenmarkt van de regio. Het aanbod is breed: van (streek)romans, thrillers en reisverhalen tot kinderboeken, stripboeken en boeken in het Engels, Frans en Duits. Ook dvd’s, lp’s en cd’s zijn verkrijgbaar. Alle boeken kosten één euro per stuk en zijn gesorteerd op genre.</p><p>Het verenigingsgebouw is bereikbaar via de schoolpleinzijde aan de Rembrandtlaan 206. Parkeren bij het gebouw is gratis.</p>
DESCRIPTION:<a href='/klaroen/agenda/2026/5/2/boekenmarkt-461637'>/klaroen/agenda/2026/5/2/boekenmarkt-461637</a> || <p>Excelsior Papendrecht organiseert zaterdag 2 mei een boekenmarkt in het verenigingsgebouw aan de Rembrandtlaan 206. De markt is open van 09:00 tot 14:00 uur. Toegang en parkeren zijn gratis.</p><p>De boekenmarkt van Excelsior Papendrecht is uitgegroeid tot de grootste indoor boekenmarkt van de regio. Het aanbod is breed: van (streek)romans, thrillers en reisverhalen tot kinderboeken, stripboeken en boeken in het Engels, Frans en Duits. Ook dvd’s, lp’s en cd’s zijn verkrijgbaar. Alle boeken kosten één euro per stuk en zijn gesorteerd op genre.</p><p>Het verenigingsgebouw is bereikbaar via de schoolpleinzijde aan de Rembrandtlaan 206. Parkeren bij het gebouw is gratis.</p>
LAST-MODIFIED:20260420T144935Z
LOCATION: Clubgebouw Excelsior | Rembrandtlaan 206 Papendrecht
SEQUENCE:0
STATUS:CONFIRMED
SUMMARY:Boekenmarkt
TRANSP:OPAQUE
END:VEVENT
END:VCALENDAR
