BEGIN:VCALENDAR
PRODID:-//PUBBLE//agenda//NL
VERSION:2.0
METHOD:PUBLISH
BEGIN:VEVENT
DTSTART:20260508T180000Z
DTEND:20260508T190000Z
DTSTAMP:20260421T041629Z
UID:576a2ff3-064c-41c6-bca6-aa6820e42a56
CREATED:20260421T041629Z
NAME:Concert O en U hetkontakt.nl
X-WR-CALNAME:Concert O en U
X-ALT-DESC;FMTTYPE=text/html:<a href='/alblasserwaard/agenda/2026/5/8/concert-o-en-u-461621'>/alblasserwaard/agenda/2026/5/8/concert-o-en-u-461621</a> || <p>Streekkoor O en U geeft samen met Graafstrooms Fanfare het voorjaarsconcert. Graafstroom Fanfare brengt Saddleworth Festival dances deel 1, 2, 3 en 4, Dances with Wolves en Highland Cathedral. O en U zingt Psalm 121, Kom, Jezus kom, Peace like a River, Stay with me en een medley uit de Sound of music. Ook staan er een pianosolo en een orgelsolo op het programma. De avond wordt afgesloten met Conquest of Paradise. Kerk open: 19.30 uur. De toegang is gratis, wel is er een collecte.</p>
DESCRIPTION:<a href='/alblasserwaard/agenda/2026/5/8/concert-o-en-u-461621'>/alblasserwaard/agenda/2026/5/8/concert-o-en-u-461621</a> || <p>Streekkoor O en U geeft samen met Graafstrooms Fanfare het voorjaarsconcert. Graafstroom Fanfare brengt Saddleworth Festival dances deel 1, 2, 3 en 4, Dances with Wolves en Highland Cathedral. O en U zingt Psalm 121, Kom, Jezus kom, Peace like a River, Stay with me en een medley uit de Sound of music. Ook staan er een pianosolo en een orgelsolo op het programma. De avond wordt afgesloten met Conquest of Paradise. Kerk open: 19.30 uur. De toegang is gratis, wel is er een collecte.</p>
LAST-MODIFIED:20260421T041629Z
LOCATION: Hervormde kerk | Noordzijde 17 Goudriaan
SEQUENCE:0
STATUS:CONFIRMED
SUMMARY:Concert O en U
TRANSP:OPAQUE
END:VEVENT
END:VCALENDAR
