BEGIN:VCALENDAR
PRODID:-//PUBBLE//agenda//NL
VERSION:2.0
METHOD:PUBLISH
BEGIN:VEVENT
DTSTART:20260428T080000Z
DTEND:20260428T100000Z
DTSTAMP:20260426T025341Z
UID:0f8f7bcc-39c4-41e1-95b3-5055964d1fb4
CREATED:20260426T025341Z
NAME:Workshop glas etsen hetkontakt.nl
X-WR-CALNAME:Workshop glas etsen
X-ALT-DESC;FMTTYPE=text/html:<a href='/tielenburen/agenda/2026/4/28/workshop-glas-etsen-461565'>/tielenburen/agenda/2026/4/28/workshop-glas-etsen-461565</a> || <p>Maak kennis met onze creatieve Maakplaats en leer werken met nieuwe digitale technieken in deze gratis workshop speciaal voor senioren.</p><p>Tijdens deze ontspannen en inspirerende ochtend ga je zelf aan de slag met het versieren van glas. Je leert stap voor stap hoe je met moderne technieken een uniek en persoonlijk ontwerp maakt, en natuurlijk ga je naar huis met jouw eigen prachtig bewerkte glas.</p><p>De activiteit is speciaal voor senioren en er is volop ruimte voor persoonlijke begeleiding en alle ruimte voor het stellen van vragen. Ervaring is niet nodig – nieuwsgierigheid wel! Aanmelden via <a href="//www.bibliotheekrivierenland.nl/buren">www.bibliotheekrivierenland.nl/buren</a>&nbsp;of bel 0344-639940.</p>
DESCRIPTION:<a href='/tielenburen/agenda/2026/4/28/workshop-glas-etsen-461565'>/tielenburen/agenda/2026/4/28/workshop-glas-etsen-461565</a> || <p>Maak kennis met onze creatieve Maakplaats en leer werken met nieuwe digitale technieken in deze gratis workshop speciaal voor senioren.</p><p>Tijdens deze ontspannen en inspirerende ochtend ga je zelf aan de slag met het versieren van glas. Je leert stap voor stap hoe je met moderne technieken een uniek en persoonlijk ontwerp maakt, en natuurlijk ga je naar huis met jouw eigen prachtig bewerkte glas.</p><p>De activiteit is speciaal voor senioren en er is volop ruimte voor persoonlijke begeleiding en alle ruimte voor het stellen van vragen. Ervaring is niet nodig – nieuwsgierigheid wel! Aanmelden via <a href="//www.bibliotheekrivierenland.nl/buren">www.bibliotheekrivierenland.nl/buren</a>&nbsp;of bel 0344-639940.</p>
LAST-MODIFIED:20260426T025341Z
LOCATION: Beheergebouw Weeshuis | Commanderij 20  Buren
SEQUENCE:0
STATUS:CONFIRMED
SUMMARY:Workshop glas etsen
TRANSP:OPAQUE
END:VEVENT
END:VCALENDAR
