BEGIN:VCALENDAR
PRODID:-//PUBBLE//agenda//NL
VERSION:2.0
METHOD:PUBLISH
BEGIN:VEVENT
DTSTART:20260420T061152Z
DTEND:20260420T071152Z
DTSTAMP:20260420T145438Z
UID:f0ea83e7-f255-4403-8909-9bf8f991e60b
CREATED:20260420T145438Z
NAME:Goede Doelenwinkeltje hetkontakt.nl
X-WR-CALNAME:Goede Doelenwinkeltje
X-ALT-DESC;FMTTYPE=text/html:<a href='/vijfheerenlanden/agenda/2026/4/25/goede-doelenwinkeltje-461552'>/vijfheerenlanden/agenda/2026/4/25/goede-doelenwinkeltje-461552</a> || <p>Het Goede Doelenwinkeltje aan de Zouwendijk 53 is open tot 12.00 uur.</p>
DESCRIPTION:<a href='/vijfheerenlanden/agenda/2026/4/25/goede-doelenwinkeltje-461552'>/vijfheerenlanden/agenda/2026/4/25/goede-doelenwinkeltje-461552</a> || <p>Het Goede Doelenwinkeltje aan de Zouwendijk 53 is open tot 12.00 uur.</p>
LAST-MODIFIED:20260420T145438Z
LOCATION: Goede Doelenwinkeltje | Zouwendijk 53 Meerkerk
SEQUENCE:0
STATUS:CONFIRMED
SUMMARY:Goede Doelenwinkeltje
TRANSP:OPAQUE
END:VEVENT
END:VCALENDAR
