BEGIN:VCALENDAR
PRODID:-//PUBBLE//agenda//NL
VERSION:2.0
METHOD:PUBLISH
BEGIN:VEVENT
DTSTART:20260425T070000Z
DTEND:20260425T080000Z
DTSTAMP:20260420T172735Z
UID:d6fc6ec1-9a5a-4ce0-9c7e-7a40e4b1852c
CREATED:20260420T172735Z
NAME:Goede Doelenwinkeltje hetkontakt.nl
X-WR-CALNAME:Goede Doelenwinkeltje
X-ALT-DESC;FMTTYPE=text/html:<a href='/alblasserwaard/agenda/2026/4/25/goede-doelenwinkeltje-461550'>/alblasserwaard/agenda/2026/4/25/goede-doelenwinkeltje-461550</a> || <p>Het Goede Doelenwinkeltje aan de Zouwendijk 53 is open tot 12.00 uur.</p>
DESCRIPTION:<a href='/alblasserwaard/agenda/2026/4/25/goede-doelenwinkeltje-461550'>/alblasserwaard/agenda/2026/4/25/goede-doelenwinkeltje-461550</a> || <p>Het Goede Doelenwinkeltje aan de Zouwendijk 53 is open tot 12.00 uur.</p>
LAST-MODIFIED:20260420T172735Z
LOCATION: Goede Doelenwinkeltje | Zouwendijk 53 Meerkerk
SEQUENCE:0
STATUS:CONFIRMED
SUMMARY:Goede Doelenwinkeltje
TRANSP:OPAQUE
END:VEVENT
END:VCALENDAR
