BEGIN:VCALENDAR
PRODID:-//PUBBLE//agenda//NL
VERSION:2.0
METHOD:PUBLISH
BEGIN:VEVENT
DTSTART:20260509T173000Z
DTEND:20260509T183000Z
DTSTAMP:20260422T075131Z
UID:3b8bdb55-4ace-4728-bb72-add8b7db8479
CREATED:20260422T075131Z
NAME:Voorjaarsconcert hetkontakt.nl
X-WR-CALNAME:Voorjaarsconcert
X-ALT-DESC;FMTTYPE=text/html:<a href='/krimpenerwaard/agenda/2026/5/9/voorjaarsconcert-461517'>/krimpenerwaard/agenda/2026/5/9/voorjaarsconcert-461517</a> || <p>Muziekvereniging Concordia verzorgt haar jaarlijkse voorjaarsconcert. Onder leiding van dirigent Mark Tempelaars brengen het harmonieorkest en het leerlingenorkest een gevarieerd programma. Ook het startersorkest, onder leiding van Daniëlle van der Bas, en de AMV-leerlingen onder leiding van muziekdocent Diana Anker laten van zich horen. Daarnaast is de winnaar van Maestro Haastrecht aanwezig. De toegang bedraagt 5 euro. Tijdens de pauze vindt er een loterij plaats.</p><blockquote></blockquote>
DESCRIPTION:<a href='/krimpenerwaard/agenda/2026/5/9/voorjaarsconcert-461517'>/krimpenerwaard/agenda/2026/5/9/voorjaarsconcert-461517</a> || <p>Muziekvereniging Concordia verzorgt haar jaarlijkse voorjaarsconcert. Onder leiding van dirigent Mark Tempelaars brengen het harmonieorkest en het leerlingenorkest een gevarieerd programma. Ook het startersorkest, onder leiding van Daniëlle van der Bas, en de AMV-leerlingen onder leiding van muziekdocent Diana Anker laten van zich horen. Daarnaast is de winnaar van Maestro Haastrecht aanwezig. De toegang bedraagt 5 euro. Tijdens de pauze vindt er een loterij plaats.</p><blockquote></blockquote>
LAST-MODIFIED:20260422T075131Z
LOCATION: De Haven van Haastrecht | Grote Haven 40 Haastrecht
SEQUENCE:0
STATUS:CONFIRMED
SUMMARY:Voorjaarsconcert
TRANSP:OPAQUE
END:VEVENT
END:VCALENDAR
