BEGIN:VCALENDAR
PRODID:-//PUBBLE//agenda//NL
VERSION:2.0
METHOD:PUBLISH
BEGIN:VEVENT
DTSTART:20260425T181500Z
DTEND:20260425T191500Z
DTSTAMP:20260422T075205Z
UID:71c3578b-6411-4e65-a0f2-fee9611aaed5
CREATED:20260422T075205Z
NAME:Cabaret | Oscar Smit - Starter (try-out) hetkontakt.nl
X-WR-CALNAME:Cabaret | Oscar Smit - Starter (try-out)
X-ALT-DESC;FMTTYPE=text/html:<a href='/krimpenerwaard/agenda/2026/4/25/cabaret-oscar-smit-starter-try-out--461422'>/krimpenerwaard/agenda/2026/4/25/cabaret-oscar-smit-starter-try-out--461422</a> || <p>Oscar Smit staat met een try-out van zijn cabaretvoorstelling ‘Starter’ in het Arto Theater. In deze voorstelling speelt hij met het idee van de ‘starter’: iemand die wil beginnen aan een volgende stap, maar merkt dat dat in de praktijk nog niet zo eenvoudig is. Na ruim tien jaar op kamers te hebben gewoond, wil hij graag op zichzelf wonen, al is het leven met zijn huisgenoten nog steeds gezellig. Kaarten zijn verkrijgbaar via <a href="http://www.artotheater.nl" target="_blank">www.artotheater.nl</a> of vanaf één uur voor aanvang aan de kassa van het theater.</p>
DESCRIPTION:<a href='/krimpenerwaard/agenda/2026/4/25/cabaret-oscar-smit-starter-try-out--461422'>/krimpenerwaard/agenda/2026/4/25/cabaret-oscar-smit-starter-try-out--461422</a> || <p>Oscar Smit staat met een try-out van zijn cabaretvoorstelling ‘Starter’ in het Arto Theater. In deze voorstelling speelt hij met het idee van de ‘starter’: iemand die wil beginnen aan een volgende stap, maar merkt dat dat in de praktijk nog niet zo eenvoudig is. Na ruim tien jaar op kamers te hebben gewoond, wil hij graag op zichzelf wonen, al is het leven met zijn huisgenoten nog steeds gezellig. Kaarten zijn verkrijgbaar via <a href="http://www.artotheater.nl" target="_blank">www.artotheater.nl</a> of vanaf één uur voor aanvang aan de kassa van het theater.</p>
LAST-MODIFIED:20260422T075205Z
LOCATION: Arto Theater  | Het Klooster 5 Schoonhoven
SEQUENCE:0
STATUS:CONFIRMED
SUMMARY:Cabaret | Oscar Smit - Starter (try-out)
TRANSP:OPAQUE
END:VEVENT
END:VCALENDAR
