BEGIN:VCALENDAR
PRODID:-//PUBBLE//agenda//NL
VERSION:2.0
METHOD:PUBLISH
BEGIN:VEVENT
DTSTART:20260426T090000Z
DTEND:20260426T100000Z
DTSTAMP:20260422T075131Z
UID:e4bd4b1b-040f-4bd2-befa-9fef3d75071c
CREATED:20260422T075131Z
NAME:Kinderfilm | Shaun het Schaap hetkontakt.nl
X-WR-CALNAME:Kinderfilm | Shaun het Schaap
X-ALT-DESC;FMTTYPE=text/html:<a href='/krimpenerwaard/agenda/2026/4/26/kinderfilm-shaun-het-schaap-461421'>/krimpenerwaard/agenda/2026/4/26/kinderfilm-shaun-het-schaap-461421</a> || <p>In het Arto Theater draait de kinderfilm ‘Shaun het Schaap’. Shaun neemt een dag vrij, maar door een misverstand met de boer, een caravan en een steile heuvel belandt iedereen in de Grote Stad. Aan Shaun en de kudde om iedereen weer veilig thuis te krijgen. Tickets via <a href="http://www.artotheater.nl" target="_blank">www.artotheater.nl</a> of vanaf een uur voor aanvang aan de kassa.</p>
DESCRIPTION:<a href='/krimpenerwaard/agenda/2026/4/26/kinderfilm-shaun-het-schaap-461421'>/krimpenerwaard/agenda/2026/4/26/kinderfilm-shaun-het-schaap-461421</a> || <p>In het Arto Theater draait de kinderfilm ‘Shaun het Schaap’. Shaun neemt een dag vrij, maar door een misverstand met de boer, een caravan en een steile heuvel belandt iedereen in de Grote Stad. Aan Shaun en de kudde om iedereen weer veilig thuis te krijgen. Tickets via <a href="http://www.artotheater.nl" target="_blank">www.artotheater.nl</a> of vanaf een uur voor aanvang aan de kassa.</p>
LAST-MODIFIED:20260422T075131Z
LOCATION: Arto Theater  | Het Klooster 5 Schoonhoven
SEQUENCE:0
STATUS:CONFIRMED
SUMMARY:Kinderfilm | Shaun het Schaap
TRANSP:OPAQUE
END:VEVENT
END:VCALENDAR
