BEGIN:VCALENDAR
PRODID:-//PUBBLE//agenda//NL
VERSION:2.0
METHOD:PUBLISH
BEGIN:VEVENT
DTSTART:20260417T120329Z
DTEND:20260417T130329Z
DTSTAMP:20260422T075206Z
UID:73fb9f7e-5b10-4456-9216-da4c8f1c79d5
CREATED:20260422T075206Z
NAME:Koningsdag-orgelconcert hetkontakt.nl
X-WR-CALNAME:Koningsdag-orgelconcert
X-ALT-DESC;FMTTYPE=text/html:<a href='/krimpenerwaard/agenda/2026/4/27/koningsdag-orgelconcert-461374'>/krimpenerwaard/agenda/2026/4/27/koningsdag-orgelconcert-461374</a> || <p>Op Koningsdag geeft organist Bas Koster een gratis concert in de Hervormde kerk Haastrecht op het Van Damorgel. Het programma bevat werken van o.a. Wolfgang Amadeus Mozart en Jan Zwart. De kerk opent om 14.30 uur met koffie en thee. Na afloop is er een collecte en gelegenheid om na te praten. Meer info: <a href="http://www.pghaastrecht.nl" target="_blank">www.pghaastrecht.nl</a>.</p>
DESCRIPTION:<a href='/krimpenerwaard/agenda/2026/4/27/koningsdag-orgelconcert-461374'>/krimpenerwaard/agenda/2026/4/27/koningsdag-orgelconcert-461374</a> || <p>Op Koningsdag geeft organist Bas Koster een gratis concert in de Hervormde kerk Haastrecht op het Van Damorgel. Het programma bevat werken van o.a. Wolfgang Amadeus Mozart en Jan Zwart. De kerk opent om 14.30 uur met koffie en thee. Na afloop is er een collecte en gelegenheid om na te praten. Meer info: <a href="http://www.pghaastrecht.nl" target="_blank">www.pghaastrecht.nl</a>.</p>
LAST-MODIFIED:20260422T075206Z
LOCATION: Hervormde kerk | Kerkplein 9 Haastrecht
SEQUENCE:0
STATUS:CONFIRMED
SUMMARY:Koningsdag-orgelconcert
TRANSP:OPAQUE
END:VEVENT
END:VCALENDAR
