BEGIN:VCALENDAR
PRODID:-//PUBBLE//agenda//NL
VERSION:2.0
METHOD:PUBLISH
BEGIN:VEVENT
DTSTART:20260417T102554Z
DTEND:20260417T112554Z
DTSTAMP:20260423T032700Z
UID:8da0471e-4d91-4869-a7f2-7b6ba31a6f77
CREATED:20260423T032700Z
NAME:Frank Blueka’s Love from Ireland hetkontakt.nl
X-WR-CALNAME:Frank Blueka’s Love from Ireland
X-ALT-DESC;FMTTYPE=text/html:<a href='/altena/agenda/2026/4/23/frank-bluekas-love-from-ireland-461357'>/altena/agenda/2026/4/23/frank-bluekas-love-from-ireland-461357</a> || <p>Het Woerkums Theater, voorheen Gewoon Ploon, zal een bijzonder optreden presenteren van songschrijver en rockpoëet Frank Blueka. Hij brengt prachtige semi-akoestisch songs in een haast filmische setting. Dit doorspekt met Ierse invloeden van onder andere U2, the Dubliners, Luka Bloom, Cranberries en Rory Gallagher. Kaarten zijn te verkrijgen via frankbluekawoudrichem.eventgoose.com.</p><p> ©Foto: M.P.I van Oort Einde PERSBERICHT Contactgegevens: Natascha Dekker (agency) &amp; BMP Music www.frankblueka.com / info@frankblueka.com 0620066462 Amsterdam- Deventer BENELUX Region altena FormUrl /altena/tipderedactie FormPath tip-de-redactie FormPathHash jKDVe47kz1fjkIRba3umWg== Bijlagen FRANK BLUEKA Press -2026 (high quality).jpg</p>
DESCRIPTION:<a href='/altena/agenda/2026/4/23/frank-bluekas-love-from-ireland-461357'>/altena/agenda/2026/4/23/frank-bluekas-love-from-ireland-461357</a> || <p>Het Woerkums Theater, voorheen Gewoon Ploon, zal een bijzonder optreden presenteren van songschrijver en rockpoëet Frank Blueka. Hij brengt prachtige semi-akoestisch songs in een haast filmische setting. Dit doorspekt met Ierse invloeden van onder andere U2, the Dubliners, Luka Bloom, Cranberries en Rory Gallagher. Kaarten zijn te verkrijgen via frankbluekawoudrichem.eventgoose.com.</p><p> ©Foto: M.P.I van Oort Einde PERSBERICHT Contactgegevens: Natascha Dekker (agency) &amp; BMP Music www.frankblueka.com / info@frankblueka.com 0620066462 Amsterdam- Deventer BENELUX Region altena FormUrl /altena/tipderedactie FormPath tip-de-redactie FormPathHash jKDVe47kz1fjkIRba3umWg== Bijlagen FRANK BLUEKA Press -2026 (high quality).jpg</p>
LAST-MODIFIED:20260423T032700Z
LOCATION: Woerkums Theater | Hoogstraat 17 Woudrichem
SEQUENCE:0
STATUS:CONFIRMED
SUMMARY:Frank Blueka’s Love from Ireland
TRANSP:OPAQUE
END:VEVENT
END:VCALENDAR
