BEGIN:VCALENDAR
PRODID:-//PUBBLE//agenda//NL
VERSION:2.0
METHOD:PUBLISH
BEGIN:VEVENT
DTSTART:20260417T065809Z
DTEND:20260417T075809Z
DTSTAMP:20260422T075246Z
UID:1d7a2526-c440-4a97-b2c5-2fd5fcefceb6
CREATED:20260422T075246Z
NAME:Muziek | Jansen & Kraayenhof - Melancholie in de Polder 2 hetkontakt.nl
X-WR-CALNAME:Muziek | Jansen & Kraayenhof - Melancholie in de Polder 2
X-ALT-DESC;FMTTYPE=text/html:<a href='/krimpenerwaard/agenda/2026/4/25/muziek-jansen-amp-kraayenhof-melancholie-in-de-polder-2-461320'>/krimpenerwaard/agenda/2026/4/25/muziek-jansen-amp-kraayenhof-melancholie-in-de-polder-2-461320</a> || <p>Leonie Jansen en Carel Kraayenhof verzorgen een optreden in Theater Concordia met de voorstelling ‘Melancholie in de Polder 2’. In dit programma nemen zij het publiek opnieuw mee op een muzikale reis. Ze brengen een mix van internationale folkmuziek, waaronder Ierse en Schotse invloeden en Argentijnse volksmuziek. Ook instrumentale stukken en Nederlandstalige nummers maken deel uit van het concert. Het optreden vindt plaats als zitconcert. Kaarten kosten 21,50 euro en zijn verkrijgbaar via <a href="https://www.theaterconcordia.nl" target="_blank">www.theaterconcordia.nl</a>.</p>
DESCRIPTION:<a href='/krimpenerwaard/agenda/2026/4/25/muziek-jansen-amp-kraayenhof-melancholie-in-de-polder-2-461320'>/krimpenerwaard/agenda/2026/4/25/muziek-jansen-amp-kraayenhof-melancholie-in-de-polder-2-461320</a> || <p>Leonie Jansen en Carel Kraayenhof verzorgen een optreden in Theater Concordia met de voorstelling ‘Melancholie in de Polder 2’. In dit programma nemen zij het publiek opnieuw mee op een muzikale reis. Ze brengen een mix van internationale folkmuziek, waaronder Ierse en Schotse invloeden en Argentijnse volksmuziek. Ook instrumentale stukken en Nederlandstalige nummers maken deel uit van het concert. Het optreden vindt plaats als zitconcert. Kaarten kosten 21,50 euro en zijn verkrijgbaar via <a href="https://www.theaterconcordia.nl" target="_blank">www.theaterconcordia.nl</a>.</p>
LAST-MODIFIED:20260422T075246Z
LOCATION: Theater Concordia | Concordiaplein 1 Haastrecht
SEQUENCE:0
STATUS:CONFIRMED
SUMMARY:Muziek | Jansen & Kraayenhof - Melancholie in de Polder 2
TRANSP:OPAQUE
END:VEVENT
END:VCALENDAR
