BEGIN:VCALENDAR
PRODID:-//PUBBLE//agenda//NL
VERSION:2.0
METHOD:PUBLISH
BEGIN:VEVENT
DTSTART:20260426T133000Z
DTEND:20260426T140000Z
DTSTAMP:20260425T022709Z
UID:8bb27d67-fe25-4176-92be-860788d7712e
CREATED:20260425T022709Z
NAME:Kooise Vespers hetkontakt.nl
X-WR-CALNAME:Kooise Vespers
X-ALT-DESC;FMTTYPE=text/html:<a href='/westbetuwe/agenda/2026/4/26/kooise-vespers-461310'>/westbetuwe/agenda/2026/4/26/kooise-vespers-461310</a> || <p>De vespers in Acquoy zijn korte, toegankelijke vieringen. Iedereen is welkom, ook wie niet (regelmatig) een kerkdienst bezoekt. Juist in de drukte van alledag kan het waardevol zijn om een half uurtje stil te worden, te luisteren naar muziek, een inspirerende tekst te horen en een moment van rust te vinden.&nbsp;De eerst volgende vesper van dit seizoen is op zondag 26 april om 15:30 uur in de kerk van Acquoy. Daarna volgt nog een dienst op 10 mei ook om 15:30 uur.</p>
DESCRIPTION:<a href='/westbetuwe/agenda/2026/4/26/kooise-vespers-461310'>/westbetuwe/agenda/2026/4/26/kooise-vespers-461310</a> || <p>De vespers in Acquoy zijn korte, toegankelijke vieringen. Iedereen is welkom, ook wie niet (regelmatig) een kerkdienst bezoekt. Juist in de drukte van alledag kan het waardevol zijn om een half uurtje stil te worden, te luisteren naar muziek, een inspirerende tekst te horen en een moment van rust te vinden.&nbsp;De eerst volgende vesper van dit seizoen is op zondag 26 april om 15:30 uur in de kerk van Acquoy. Daarna volgt nog een dienst op 10 mei ook om 15:30 uur.</p>
LAST-MODIFIED:20260425T022709Z
LOCATION: Hervormde Kerk | Lingedijk 96 Acquoy
SEQUENCE:0
STATUS:CONFIRMED
SUMMARY:Kooise Vespers
TRANSP:OPAQUE
END:VEVENT
END:VCALENDAR
