BEGIN:VCALENDAR
PRODID:-//PUBBLE//agenda//NL
VERSION:2.0
METHOD:PUBLISH
BEGIN:VEVENT
DTSTART:20260417T062557Z
DTEND:20260429T133000Z
DTSTAMP:20260422T075245Z
UID:d0c2b908-fbfe-4db2-bc17-0e15243483b8
CREATED:20260422T075245Z
NAME:Knutselmiddag hetkontakt.nl
X-WR-CALNAME:Knutselmiddag
X-ALT-DESC;FMTTYPE=text/html:<a href='/krimpenerwaard/agenda/2026/4/29/knutselmiddag-461309'>/krimpenerwaard/agenda/2026/4/29/knutselmiddag-461309</a> || <p>Het Streekmuseum Krimpenerwaard in Krimpen aan den IJssel organiseert in de meivakantie een knutselmiddag voor kinderen. Onder begeleiding van vrijwilligers maken de kinderen creatieve werkjes rond het thema zee en strand. De middag vindt plaats in de Tuinzaal van het museum. Deelname is gratis, maar vooraf aanmelden is verplicht. Aanmelden kan tot en met 23 april via e-mail: m.brouwers@streekmuseumkrimpenerwaard.nl.</p>
DESCRIPTION:<a href='/krimpenerwaard/agenda/2026/4/29/knutselmiddag-461309'>/krimpenerwaard/agenda/2026/4/29/knutselmiddag-461309</a> || <p>Het Streekmuseum Krimpenerwaard in Krimpen aan den IJssel organiseert in de meivakantie een knutselmiddag voor kinderen. Onder begeleiding van vrijwilligers maken de kinderen creatieve werkjes rond het thema zee en strand. De middag vindt plaats in de Tuinzaal van het museum. Deelname is gratis, maar vooraf aanmelden is verplicht. Aanmelden kan tot en met 23 april via e-mail: m.brouwers@streekmuseumkrimpenerwaard.nl.</p>
LAST-MODIFIED:20260422T075245Z
LOCATION: Streekmuseum Krimpenerwaard | Boezemdreef 1 Krimpen aan den IJssel
SEQUENCE:0
STATUS:CONFIRMED
SUMMARY:Knutselmiddag
TRANSP:OPAQUE
END:VEVENT
END:VCALENDAR
