BEGIN:VCALENDAR
PRODID:-//PUBBLE//agenda//NL
VERSION:2.0
METHOD:PUBLISH
BEGIN:VEVENT
DTSTART:20260417T061748Z
DTEND:20260417T071748Z
DTSTAMP:20260422T075131Z
UID:e4806053-f6b2-4c5e-b370-f097ab738834
CREATED:20260422T075131Z
NAME:Klaverjassen hetkontakt.nl
X-WR-CALNAME:Klaverjassen
X-ALT-DESC;FMTTYPE=text/html:<a href='/krimpenerwaard/agenda/2026/5/11/klaverjassen-461306'>/krimpenerwaard/agenda/2026/5/11/klaverjassen-461306</a> || <p>Nieuwe kaartavond van klaverjasclub De Waard. Belangstellenden zijn iedere maandagavond vanaf 19.30 uur welkom. De uitslag van de vorige speelavond: 1. Hans Mudde, 5.780 punten; 2.&nbsp;Ingrid van der Wouden, 5.722 punten; 3. Ineke Zwijnenburg, 5.085 punten.</p>
DESCRIPTION:<a href='/krimpenerwaard/agenda/2026/5/11/klaverjassen-461306'>/krimpenerwaard/agenda/2026/5/11/klaverjassen-461306</a> || <p>Nieuwe kaartavond van klaverjasclub De Waard. Belangstellenden zijn iedere maandagavond vanaf 19.30 uur welkom. De uitslag van de vorige speelavond: 1. Hans Mudde, 5.780 punten; 2.&nbsp;Ingrid van der Wouden, 5.722 punten; 3. Ineke Zwijnenburg, 5.085 punten.</p>
LAST-MODIFIED:20260422T075131Z
LOCATION: De Waard | Meidoornstraat 7 Bergambacht
SEQUENCE:0
STATUS:CONFIRMED
SUMMARY:Klaverjassen
TRANSP:OPAQUE
END:VEVENT
END:VCALENDAR
