BEGIN:VCALENDAR
PRODID:-//PUBBLE//agenda//NL
VERSION:2.0
METHOD:PUBLISH
BEGIN:VEVENT
DTSTART:20260426T100000Z
DTEND:20260426T123000Z
DTSTAMP:20260422T064705Z
UID:16454359-6ca7-4be5-923a-a58cee9ee5a2
CREATED:20260422T064705Z
NAME:Brunch hetkontakt.nl
X-WR-CALNAME:Brunch
X-ALT-DESC;FMTTYPE=text/html:<a href='/krimpenerwaard/agenda/2026/4/26/brunch-461295'>/krimpenerwaard/agenda/2026/4/26/brunch-461295</a> || <p>In De Ark wordt weer een brunch georganiseerd. Bedoeld voor wie zin heeft om anderen te ontmoeten en samen te eten. Inloop vanaf 12.00 uur. Deelname is gratis. Aanmelden is niet nodig.</p>
DESCRIPTION:<a href='/krimpenerwaard/agenda/2026/4/26/brunch-461295'>/krimpenerwaard/agenda/2026/4/26/brunch-461295</a> || <p>In De Ark wordt weer een brunch georganiseerd. Bedoeld voor wie zin heeft om anderen te ontmoeten en samen te eten. Inloop vanaf 12.00 uur. Deelname is gratis. Aanmelden is niet nodig.</p>
LAST-MODIFIED:20260422T064705Z
LOCATION: De Ark | Groene Singel 10 Schoonhoven
SEQUENCE:0
STATUS:CONFIRMED
SUMMARY:Brunch
TRANSP:OPAQUE
END:VEVENT
END:VCALENDAR
