BEGIN:VCALENDAR
PRODID:-//PUBBLE//agenda//NL
VERSION:2.0
METHOD:PUBLISH
BEGIN:VEVENT
DTSTART:20260416T122056Z
DTEND:20260416T132056Z
DTSTAMP:20260422T075246Z
UID:59a35a1c-b3a4-4210-b557-659dc0ee48bc
CREATED:20260422T075246Z
NAME:Jeugdmatinee | Het Kleurenmonster hetkontakt.nl
X-WR-CALNAME:Jeugdmatinee | Het Kleurenmonster
X-ALT-DESC;FMTTYPE=text/html:<a href='/krimpenerwaard/agenda/2026/4/29/jeugdmatinee-het-kleurenmonster-461243'>/krimpenerwaard/agenda/2026/4/29/jeugdmatinee-het-kleurenmonster-461243</a> || <p>In Theater Concordia is een jeugdmatinee te zien van ‘Het Kleurenmonster’, gebaseerd op het prentenboek van Anna Llenas. De voorstelling is geschikt voor kinderen van 3 tot en met 8 jaar. In het verhaal ervaart het kleurenmonster allerlei emoties tegelijk, die door elkaar heen lopen. Wanneer het een vriendelijk meisje ontmoet, gaan ze samen op reis en leert het monster zijn gevoelens beter herkennen en begrijpen. Het stuk gaat over emoties, vriendschap en zelfontdekking. De woordloze en muzikale voorstelling wordt gespeeld met zelfgemaakte poppen en decorstukken door Theater Stof. Na afloop is er gelegenheid om het kleurenmonster en andere figuren te ontmoeten. Kaarten kosten 9,50 euro en zijn te bestellen via www.theaterconcordia.nl.</p>
DESCRIPTION:<a href='/krimpenerwaard/agenda/2026/4/29/jeugdmatinee-het-kleurenmonster-461243'>/krimpenerwaard/agenda/2026/4/29/jeugdmatinee-het-kleurenmonster-461243</a> || <p>In Theater Concordia is een jeugdmatinee te zien van ‘Het Kleurenmonster’, gebaseerd op het prentenboek van Anna Llenas. De voorstelling is geschikt voor kinderen van 3 tot en met 8 jaar. In het verhaal ervaart het kleurenmonster allerlei emoties tegelijk, die door elkaar heen lopen. Wanneer het een vriendelijk meisje ontmoet, gaan ze samen op reis en leert het monster zijn gevoelens beter herkennen en begrijpen. Het stuk gaat over emoties, vriendschap en zelfontdekking. De woordloze en muzikale voorstelling wordt gespeeld met zelfgemaakte poppen en decorstukken door Theater Stof. Na afloop is er gelegenheid om het kleurenmonster en andere figuren te ontmoeten. Kaarten kosten 9,50 euro en zijn te bestellen via www.theaterconcordia.nl.</p>
LAST-MODIFIED:20260422T075246Z
LOCATION: Theater Concordia | Concordiaplein 1 Haastrecht
SEQUENCE:0
STATUS:CONFIRMED
SUMMARY:Jeugdmatinee | Het Kleurenmonster
TRANSP:OPAQUE
END:VEVENT
END:VCALENDAR
