BEGIN:VCALENDAR
PRODID:-//PUBBLE//agenda//NL
VERSION:2.0
METHOD:PUBLISH
BEGIN:VEVENT
DTSTART:20260416T114816Z
DTEND:20260416T124816Z
DTSTAMP:20260422T075205Z
UID:2ff8182e-e4e2-481a-b335-bebf5e893ea3
CREATED:20260422T075205Z
NAME:Taizé viering hetkontakt.nl
X-WR-CALNAME:Taizé viering
X-ALT-DESC;FMTTYPE=text/html:<a href='/krimpenerwaard/agenda/2026/4/26/taize-viering-461234'>/krimpenerwaard/agenda/2026/4/26/taize-viering-461234</a> || <p>Een Taizé viering is een ingetogen dienst waarin de voor Taizé typerende liederen worden gezongen. Liederen en gebeden uit de Protestantse broedergemeenschap in Frankrijk vormen de rode draad. In deze oecumenische dienst is er ook ruimte voor meditatie in een moment van stilte.</p>
DESCRIPTION:<a href='/krimpenerwaard/agenda/2026/4/26/taize-viering-461234'>/krimpenerwaard/agenda/2026/4/26/taize-viering-461234</a> || <p>Een Taizé viering is een ingetogen dienst waarin de voor Taizé typerende liederen worden gezongen. Liederen en gebeden uit de Protestantse broedergemeenschap in Frankrijk vormen de rode draad. In deze oecumenische dienst is er ook ruimte voor meditatie in een moment van stilte.</p>
LAST-MODIFIED:20260422T075205Z
LOCATION:  Sint-Bartholomeüskerk | Wal 63 Schoonhoven
SEQUENCE:0
STATUS:CONFIRMED
SUMMARY:Taizé viering
TRANSP:OPAQUE
END:VEVENT
END:VCALENDAR
