BEGIN:VCALENDAR
PRODID:-//PUBBLE//agenda//NL
VERSION:2.0
METHOD:PUBLISH
BEGIN:VEVENT
DTSTART:20260426T120000Z
DTEND:20260426T140000Z
DTSTAMP:20260422T075128Z
UID:83eee07f-adc5-4258-803f-60eec234f63e
CREATED:20260422T075128Z
NAME:Concert | Solune - Hommage à la chanson Française hetkontakt.nl
X-WR-CALNAME:Concert | Solune - Hommage à la chanson Française
X-ALT-DESC;FMTTYPE=text/html:<a href='/krimpenerwaard/agenda/2026/4/26/concert-solune-hommage-a-la-chanson-francaise-461202'>/krimpenerwaard/agenda/2026/4/26/concert-solune-hommage-a-la-chanson-francaise-461202</a> || <p>Solune brengt met Mony Wouters (zang) en Laetitia van Krieken (piano) een veelzijdige hommage aan het Franse chanson, met repertoire van vroege klassiekers tot jazz, pop en bossa nova. Mony Wouters heeft jarenlange ervaring als zangeres, vocal coach en musicus in diverse Franse en Nederlandse muziekgroepen en projecten. Laetitia van Krieken is een veelzijdige pianiste, componiste en arrangeur, bekend van haar werk in bands, theaterproducties en als docent aan het Rotterdams conservatorium. Toegang: 20 euro, donateurs Haastrechtse Kring 15 euro. Kaarten: <a href="https://www.haastrechtsekring.nl" target="_blank">www.haastrechtsekring.nl</a>.</p>
DESCRIPTION:<a href='/krimpenerwaard/agenda/2026/4/26/concert-solune-hommage-a-la-chanson-francaise-461202'>/krimpenerwaard/agenda/2026/4/26/concert-solune-hommage-a-la-chanson-francaise-461202</a> || <p>Solune brengt met Mony Wouters (zang) en Laetitia van Krieken (piano) een veelzijdige hommage aan het Franse chanson, met repertoire van vroege klassiekers tot jazz, pop en bossa nova. Mony Wouters heeft jarenlange ervaring als zangeres, vocal coach en musicus in diverse Franse en Nederlandse muziekgroepen en projecten. Laetitia van Krieken is een veelzijdige pianiste, componiste en arrangeur, bekend van haar werk in bands, theaterproducties en als docent aan het Rotterdams conservatorium. Toegang: 20 euro, donateurs Haastrechtse Kring 15 euro. Kaarten: <a href="https://www.haastrechtsekring.nl" target="_blank">www.haastrechtsekring.nl</a>.</p>
LAST-MODIFIED:20260422T075128Z
LOCATION: Hervormde kerk | Kerkplein 9 Haastrecht
SEQUENCE:0
STATUS:CONFIRMED
SUMMARY:Concert | Solune - Hommage à la chanson Française
TRANSP:OPAQUE
END:VEVENT
END:VCALENDAR
