BEGIN:VCALENDAR
PRODID:-//PUBBLE//agenda//NL
VERSION:2.0
METHOD:PUBLISH
BEGIN:VEVENT
DTSTART:20260429T080000Z
DTEND:20260429T150000Z
DTSTAMP:20260420T141323Z
UID:22b7e080-08d1-4f8a-bc8a-f07bc8596b8d
CREATED:20260420T141323Z
NAME:D-Day-training hetkontakt.nl
X-WR-CALNAME:D-Day-training
X-ALT-DESC;FMTTYPE=text/html:<a href='/altena/agenda/2026/4/29/d-day-training-461172'>/altena/agenda/2026/4/29/d-day-training-461172</a> || <p>Ontdek hoe soldaten in de Tweede Wereldoorlog zich voorbereidden om bunkers te veroveren op de vijand. Kapitein Baroen komt hierover vertellen en leert de aanwezigen hoe belangrijk samenwerking en strategie waren. </p>
DESCRIPTION:<a href='/altena/agenda/2026/4/29/d-day-training-461172'>/altena/agenda/2026/4/29/d-day-training-461172</a> || <p>Ontdek hoe soldaten in de Tweede Wereldoorlog zich voorbereidden om bunkers te veroveren op de vijand. Kapitein Baroen komt hierover vertellen en leert de aanwezigen hoe belangrijk samenwerking en strategie waren. </p>
LAST-MODIFIED:20260420T141323Z
LOCATION: Almkerk | Rijkswal 32 Woudrichem
SEQUENCE:0
STATUS:CONFIRMED
SUMMARY:D-Day-training
TRANSP:OPAQUE
END:VEVENT
END:VCALENDAR
