BEGIN:VCALENDAR
PRODID:-//PUBBLE//agenda//NL
VERSION:2.0
METHOD:PUBLISH
BEGIN:VEVENT
DTSTART:20260423T173000Z
DTEND:20260423T200000Z
DTSTAMP:20260423T112529Z
UID:0faee015-04b1-4696-8356-32cb5a998eae
CREATED:20260423T112529Z
NAME:Pub Quiz hetkontakt.nl
X-WR-CALNAME:Pub Quiz
X-ALT-DESC;FMTTYPE=text/html:<a href='/westbetuwe/agenda/2026/4/23/pub-quiz-461111'>/westbetuwe/agenda/2026/4/23/pub-quiz-461111</a> || <p>Op donderdagavond 23 april wordt er in dorpshuis De Koeldert in Waardenburg een Pub Quiz georganiseerd door Waardenburg Leeft. Een groep inwoners zetten zich in voor meer activiteiten en leefbaarheid in het dorp onder de naam Waardenburg Leeft.&nbsp;</p><p>Stel je team van 2 tot 6 personen samen, en beleef een gezellige avond en maak kans op leuke prijzen. Aanmelden kan via <a href="mailto:activiteiten@dorpwaardenburg.nl"><strong>activiteiten@dorpwaardenburg.nl</strong></a>. Bijdrage per team is 17,50 euro.</p>
DESCRIPTION:<a href='/westbetuwe/agenda/2026/4/23/pub-quiz-461111'>/westbetuwe/agenda/2026/4/23/pub-quiz-461111</a> || <p>Op donderdagavond 23 april wordt er in dorpshuis De Koeldert in Waardenburg een Pub Quiz georganiseerd door Waardenburg Leeft. Een groep inwoners zetten zich in voor meer activiteiten en leefbaarheid in het dorp onder de naam Waardenburg Leeft.&nbsp;</p><p>Stel je team van 2 tot 6 personen samen, en beleef een gezellige avond en maak kans op leuke prijzen. Aanmelden kan via <a href="mailto:activiteiten@dorpwaardenburg.nl"><strong>activiteiten@dorpwaardenburg.nl</strong></a>. Bijdrage per team is 17,50 euro.</p>
LAST-MODIFIED:20260423T112529Z
LOCATION: Dorpshuis De Koeldert | De Koeldert 30 Waardenburg
SEQUENCE:0
STATUS:CONFIRMED
SUMMARY:Pub Quiz
TRANSP:OPAQUE
END:VEVENT
END:VCALENDAR
