BEGIN:VCALENDAR
PRODID:-//PUBBLE//agenda//NL
VERSION:2.0
METHOD:PUBLISH
BEGIN:VEVENT
DTSTART:20260415T073618Z
DTEND:20260427T183000Z
DTSTAMP:20260422T075246Z
UID:51380ce1-49cb-432e-b6e2-f0d2cf2e408f
CREATED:20260422T075246Z
NAME:Koningsconcert hetkontakt.nl
X-WR-CALNAME:Koningsconcert
X-ALT-DESC;FMTTYPE=text/html:<a href='/krimpenerwaard/agenda/2026/4/27/koningsconcert-461094'>/krimpenerwaard/agenda/2026/4/27/koningsconcert-461094</a> || <p>Op Koningsdag vindt in de Sionskerk een Oranjeconcert plaats, verzorgd door het Mannenensemble Maranatha onder leiding van Joanneke de Jongh. Het koor zingt een afwisselend programma, met begeleiding van organist Piet de Vries, pianist Jan Peter Teeuw en panfluitist Corné van der Giessen. Er is daarnaast gelegenheid tot samenzang. De toegang is vrij.</p>
DESCRIPTION:<a href='/krimpenerwaard/agenda/2026/4/27/koningsconcert-461094'>/krimpenerwaard/agenda/2026/4/27/koningsconcert-461094</a> || <p>Op Koningsdag vindt in de Sionskerk een Oranjeconcert plaats, verzorgd door het Mannenensemble Maranatha onder leiding van Joanneke de Jongh. Het koor zingt een afwisselend programma, met begeleiding van organist Piet de Vries, pianist Jan Peter Teeuw en panfluitist Corné van der Giessen. Er is daarnaast gelegenheid tot samenzang. De toegang is vrij.</p>
LAST-MODIFIED:20260422T075246Z
LOCATION: Sionskerk | Nieuwe Tiendweg 17 Krimpen aan den IJssel
SEQUENCE:0
STATUS:CONFIRMED
SUMMARY:Koningsconcert
TRANSP:OPAQUE
END:VEVENT
END:VCALENDAR
