BEGIN:VCALENDAR
PRODID:-//PUBBLE//agenda//NL
VERSION:2.0
METHOD:PUBLISH
BEGIN:VEVENT
DTSTART:20260423T181500Z
DTEND:20260423T191500Z
DTSTAMP:20260422T075205Z
UID:48146fc9-b1e7-498a-98f8-222c929b155f
CREATED:20260422T075205Z
NAME:Film | One Life hetkontakt.nl
X-WR-CALNAME:Film | One Life
X-ALT-DESC;FMTTYPE=text/html:<a href='/krimpenerwaard/agenda/2026/4/23/film-one-life-461092'>/krimpenerwaard/agenda/2026/4/23/film-one-life-461092</a> || <p>Tijdens de filmavond in Theater Concordia wordt de film ‘One Life’ vertoond. Het waargebeurde verhaal volgt Sir Nicholas Winton, die zich vlak voor de Tweede Wereldoorlog inzet om Joodse kinderen uit Praag te redden. Jaren later worstelt hij met de vraag of hij genoeg heeft gedaan, totdat een tv-optreden hem helpt zijn verleden onder ogen te zien. De hoofdrollen worden vertolkt door onder anderen Anthony Hopkins, Johnny Flynn, Helena Bonham Carter en Jonathan Pryce. De film draait in de grote zaal op groot scherm. Kaarten (à 9 euro) zijn te bestellen via <a href="https://www.theaterconcordia.nl" target="_blank">www.theaterconcordia.nl</a>.</p>
DESCRIPTION:<a href='/krimpenerwaard/agenda/2026/4/23/film-one-life-461092'>/krimpenerwaard/agenda/2026/4/23/film-one-life-461092</a> || <p>Tijdens de filmavond in Theater Concordia wordt de film ‘One Life’ vertoond. Het waargebeurde verhaal volgt Sir Nicholas Winton, die zich vlak voor de Tweede Wereldoorlog inzet om Joodse kinderen uit Praag te redden. Jaren later worstelt hij met de vraag of hij genoeg heeft gedaan, totdat een tv-optreden hem helpt zijn verleden onder ogen te zien. De hoofdrollen worden vertolkt door onder anderen Anthony Hopkins, Johnny Flynn, Helena Bonham Carter en Jonathan Pryce. De film draait in de grote zaal op groot scherm. Kaarten (à 9 euro) zijn te bestellen via <a href="https://www.theaterconcordia.nl" target="_blank">www.theaterconcordia.nl</a>.</p>
LAST-MODIFIED:20260422T075205Z
LOCATION: Theater Concordia | Concordiaplein 1 Haastrecht
SEQUENCE:0
STATUS:CONFIRMED
SUMMARY:Film | One Life
TRANSP:OPAQUE
END:VEVENT
END:VCALENDAR
