BEGIN:VCALENDAR
PRODID:-//PUBBLE//agenda//NL
VERSION:2.0
METHOD:PUBLISH
BEGIN:VEVENT
DTSTART:20260428T123000Z
DTEND:20260428T133000Z
DTSTAMP:20260422T064700Z
UID:e838b7ba-6504-4f0d-b232-ab119c757b0c
CREATED:20260422T064700Z
NAME:ANBO-PCOB-bijeenkomst met audiovisuele presentatie hetkontakt.nl
X-WR-CALNAME:ANBO-PCOB-bijeenkomst met audiovisuele presentatie
X-ALT-DESC;FMTTYPE=text/html:<a href='/krimpenerwaard/agenda/2026/4/28/anbo-pcob-bijeenkomst-met-audiovisuele-presentatie-461091'>/krimpenerwaard/agenda/2026/4/28/anbo-pcob-bijeenkomst-met-audiovisuele-presentatie-461091</a> || <p>De Schoonhovense ANBO-PCOB-afdeling houdt haar laatste verenigingsmiddag voor de zomervakantie. Marcel Batist, bekroond om zijn hoogwaardige audiovisuele presentaties en natuurgetrouwe fotografie, verzorgt deze bijeenkomst. Hij licht zijn werk toe; delen van de presentatie worden ondersteund door passende muziek. Zowel leden als niet-leden zijn van welkom.</p>
DESCRIPTION:<a href='/krimpenerwaard/agenda/2026/4/28/anbo-pcob-bijeenkomst-met-audiovisuele-presentatie-461091'>/krimpenerwaard/agenda/2026/4/28/anbo-pcob-bijeenkomst-met-audiovisuele-presentatie-461091</a> || <p>De Schoonhovense ANBO-PCOB-afdeling houdt haar laatste verenigingsmiddag voor de zomervakantie. Marcel Batist, bekroond om zijn hoogwaardige audiovisuele presentaties en natuurgetrouwe fotografie, verzorgt deze bijeenkomst. Hij licht zijn werk toe; delen van de presentatie worden ondersteund door passende muziek. Zowel leden als niet-leden zijn van welkom.</p>
LAST-MODIFIED:20260422T064700Z
LOCATION: De Ark | Groene Singel 10 Schoonhoven
SEQUENCE:0
STATUS:CONFIRMED
SUMMARY:ANBO-PCOB-bijeenkomst met audiovisuele presentatie
TRANSP:OPAQUE
END:VEVENT
END:VCALENDAR
