BEGIN:VCALENDAR
PRODID:-//PUBBLE//agenda//NL
VERSION:2.0
METHOD:PUBLISH
BEGIN:VEVENT
DTSTART:20260502T080000Z
DTEND:20260502T140000Z
DTSTAMP:20260424T022654Z
UID:fc7cd4d2-6781-4366-943a-6af90471c1e5
CREATED:20260424T022654Z
NAME:West-Con comic con hetkontakt.nl
X-WR-CALNAME:West-Con comic con
X-ALT-DESC;FMTTYPE=text/html:<a href='/vijfheerenlanden/agenda/2026/5/2/west-con-comic-con-461074'>/vijfheerenlanden/agenda/2026/5/2/west-con-comic-con-461074</a> || <p>De derde editie van comic con bij wijkvereniging West-End: West-Con is voor iedere fan van superhelden, sci-fi, anime, pokemon, lego, comics en toys. Zoals bij elke comic con is Cosplay een belangrijk onderdeel van de fandag. </p><p>Toegang is 2,50 euro per persoon. Voor meer informatie of kraam huur (er zijn nog tafels beschikbaar): 0653485218.</p>
DESCRIPTION:<a href='/vijfheerenlanden/agenda/2026/5/2/west-con-comic-con-461074'>/vijfheerenlanden/agenda/2026/5/2/west-con-comic-con-461074</a> || <p>De derde editie van comic con bij wijkvereniging West-End: West-Con is voor iedere fan van superhelden, sci-fi, anime, pokemon, lego, comics en toys. Zoals bij elke comic con is Cosplay een belangrijk onderdeel van de fandag. </p><p>Toegang is 2,50 euro per persoon. Voor meer informatie of kraam huur (er zijn nog tafels beschikbaar): 0653485218.</p>
LAST-MODIFIED:20260424T022654Z
LOCATION: Wijkvereniging WestEnd | P.M. van Gentstraat 20 Leerdam
SEQUENCE:0
STATUS:CONFIRMED
SUMMARY:West-Con comic con
TRANSP:OPAQUE
END:VEVENT
END:VCALENDAR
