BEGIN:VCALENDAR
PRODID:-//PUBBLE//agenda//NL
VERSION:2.0
METHOD:PUBLISH
BEGIN:VEVENT
DTSTART:20260428T174500Z
DTEND:20260428T200000Z
DTSTAMP:20260422T075206Z
UID:27d77fba-88dc-4a1b-97e3-ff0930e32bd5
CREATED:20260422T075206Z
NAME:Marjolein Meijers bij Vrouwen van Nu hetkontakt.nl
X-WR-CALNAME:Marjolein Meijers bij Vrouwen van Nu
X-ALT-DESC;FMTTYPE=text/html:<a href='/krimpenerwaard/agenda/2026/4/28/marjolein-meijers-bij-vrouwen-van-nu-461018'>/krimpenerwaard/agenda/2026/4/28/marjolein-meijers-bij-vrouwen-van-nu-461018</a> || <p>Vrouwen van Nu Lekkerkerk sluit het seizoen af met een optreden van Marjolein Meijers en haar band. De zaal gaat open om 19.15 uur. Leden hebben gratis toegang, niet-leden betalen 10 euro.</p>
DESCRIPTION:<a href='/krimpenerwaard/agenda/2026/4/28/marjolein-meijers-bij-vrouwen-van-nu-461018'>/krimpenerwaard/agenda/2026/4/28/marjolein-meijers-bij-vrouwen-van-nu-461018</a> || <p>Vrouwen van Nu Lekkerkerk sluit het seizoen af met een optreden van Marjolein Meijers en haar band. De zaal gaat open om 19.15 uur. Leden hebben gratis toegang, niet-leden betalen 10 euro.</p>
LAST-MODIFIED:20260422T075206Z
LOCATION: Amicitia | Raadhuisplein 1-5 Lekkerkerk
SEQUENCE:0
STATUS:CONFIRMED
SUMMARY:Marjolein Meijers bij Vrouwen van Nu
TRANSP:OPAQUE
END:VEVENT
END:VCALENDAR
