BEGIN:VCALENDAR
PRODID:-//PUBBLE//agenda//NL
VERSION:2.0
METHOD:PUBLISH
BEGIN:VEVENT
DTSTART:20260422T180000Z
DTEND:20260422T190000Z
DTSTAMP:20260422T033143Z
UID:222a4d9b-9cdd-4803-a402-4d0252061506
CREATED:20260422T033143Z
NAME:Grensverschuivingen hetkontakt.nl
X-WR-CALNAME:Grensverschuivingen
X-ALT-DESC;FMTTYPE=text/html:<a href='/altena/agenda/2026/4/22/grensverschuivingen-460993'>/altena/agenda/2026/4/22/grensverschuivingen-460993</a> || <p>De grens tussen Lopik en Schoonhoven is in de loop van de geschiedenis diverse malen veranderd. René Kappers heeft uitgebreid onderzoek gedaan naar de middeleeuwse geschiedenis van Schoonhoven. Hij deelt deze avond zijn bevindingen over de grenzen tussen Cabauw, Lopik, Willige Langerak en Schoonhoven in de periode 1247-1400 voor de Historische Vereniging Lopik. Entree 7,50 euro voor niet-leden, gratis voor leden. Aanmelden noodzakelijk via info@historisch-lopik.nl. </p>
DESCRIPTION:<a href='/altena/agenda/2026/4/22/grensverschuivingen-460993'>/altena/agenda/2026/4/22/grensverschuivingen-460993</a> || <p>De grens tussen Lopik en Schoonhoven is in de loop van de geschiedenis diverse malen veranderd. René Kappers heeft uitgebreid onderzoek gedaan naar de middeleeuwse geschiedenis van Schoonhoven. Hij deelt deze avond zijn bevindingen over de grenzen tussen Cabauw, Lopik, Willige Langerak en Schoonhoven in de periode 1247-1400 voor de Historische Vereniging Lopik. Entree 7,50 euro voor niet-leden, gratis voor leden. Aanmelden noodzakelijk via info@historisch-lopik.nl. </p>
LAST-MODIFIED:20260422T033143Z
LOCATION: Café In 't Witte Paard | Cabauwsekade 42 Cabauw
SEQUENCE:0
STATUS:CONFIRMED
SUMMARY:Grensverschuivingen
TRANSP:OPAQUE
END:VEVENT
END:VCALENDAR
