BEGIN:VCALENDAR
PRODID:-//PUBBLE//agenda//NL
VERSION:2.0
METHOD:PUBLISH
BEGIN:VEVENT
DTSTART:20260424T180000Z
DTEND:20260424T192000Z
DTSTAMP:20260422T160812Z
UID:e8a38e9d-b0eb-44d1-9b7e-33185b535e1a
CREATED:20260422T160812Z
NAME:Solo Stories: PA met Eric Corton hetkontakt.nl
X-WR-CALNAME:Solo Stories: PA met Eric Corton
X-ALT-DESC;FMTTYPE=text/html:<a href='/tielenburen/agenda/2026/4/24/solo-stories-pa-met-eric-corton-460974'>/tielenburen/agenda/2026/4/24/solo-stories-pa-met-eric-corton-460974</a> || <p><strong>Over een vader die een fascinerende tournee maakt door zijn eigen werkelijkheid</strong> </p><p>Met de solovoorstelling <em>Pa</em>, gespeeld door Eric Corton (ook op gitaar!), viert Solo Stories haar 10-jarig jubileum. Om nogmaals stil te staan bij de honderdduizenden mensen met dementie en hun mantelzorgers, brengen de makers van <em>Ma&nbsp;</em>een geheel nieuwe voorstelling over dit fenomeen.Een ontroerend, geestig en muzikaal verhaal over een vader die een fascinerende tournee maakt door zijn eigen werkelijkheid.</p><p>Meer info &amp; tickets: agnietenhof.nl</p>
DESCRIPTION:<a href='/tielenburen/agenda/2026/4/24/solo-stories-pa-met-eric-corton-460974'>/tielenburen/agenda/2026/4/24/solo-stories-pa-met-eric-corton-460974</a> || <p><strong>Over een vader die een fascinerende tournee maakt door zijn eigen werkelijkheid</strong> </p><p>Met de solovoorstelling <em>Pa</em>, gespeeld door Eric Corton (ook op gitaar!), viert Solo Stories haar 10-jarig jubileum. Om nogmaals stil te staan bij de honderdduizenden mensen met dementie en hun mantelzorgers, brengen de makers van <em>Ma&nbsp;</em>een geheel nieuwe voorstelling over dit fenomeen.Een ontroerend, geestig en muzikaal verhaal over een vader die een fascinerende tournee maakt door zijn eigen werkelijkheid.</p><p>Meer info &amp; tickets: agnietenhof.nl</p>
LAST-MODIFIED:20260422T160812Z
LOCATION: Agnietenhof | Sint Agnietenhof 2 Tiel
SEQUENCE:0
STATUS:CONFIRMED
SUMMARY:Solo Stories: PA met Eric Corton
TRANSP:OPAQUE
END:VEVENT
END:VCALENDAR
